{"text_format":"1","workbook":"xlsx","n_sheets":15,"sheets":["Entraînement","Bilan","poids","Graph ( bilan )","nb heures semaine","nb heures mois","Km nat hebdo","Km nat mensuel","moy nat","Km vélo hebdo","Km vélo mensuel","moy vélo","Km cap hebdo","Km cap mensuel","Moy cap"],"not_rendered":{"charts":13,"images":0,"macros":1,"external_links":0,"defined_names":5,"comments":0,"pivot_tables":0},"unopened":[],"bounds":{"document_bytes":16777216,"sheet_cells":100000,"rows_first":2000,"rows_last":500,"rows_between":2000,"halvings":0,"cell_chars":16384,"cell_head_chars":4096},"cells_cut":0,"cells_raw":0,"read":"whole","date_system":"1900"}

{"sheet":"Entraînement","index":0,"n_rows":370,"n_cols":26,"rows_kept":370,"cut":false,"hidden":false,"merged":[[0,19,0,21],[0,22,1,22],[0,23,0,24],[0,0,0,1],[0,2,1,2],[0,3,0,9],[0,10,1,10],[0,11,0,17],[0,18,1,18]]}
[null,null,"RUN","Course à pieds",null,null,null,null,null,null,"BIKE","Vélo",null,null,null,null,null,null,"SWIM","Natation",null,null,"OTHER","Autre",null,"Poids"]
[null,null,null,"KM","Tps","Avg","All/km","Fcmoy","Fcmax","Contenu",null,"Km","Tps","Avg","Fcmoy","Fcmax","Cad","Contenu",null,"KM","Tps","Contenu",null,"Tps","Contenu"]
["2019-01-01","mar",null,null,null,{"$f":"IF(E3<>\"\",(D3/E3)/24,\"\")","v":""},{"$f":"IF(E3<>\"\",E3/D3,\"\")","v":""},null,null,null,null,null,null,{"$f":"IF(M3<>\"\",(L3/M3)/24,\"\")","v":""}]
["2019-01-02","mer",null,null,null,{"$f":"IF(E4<>\"\",(D4/E4)/24,\"\")","v":""},{"$f":"IF(E4<>\"\",E4/D4,\"\")","v":""},null,null,null,null,null,null,""]
["2019-01-03","jeu",null,null,null,"","",null,null,null,null,null,null,""]
["2019-01-04","ven",null,null,null,"","",null,null,null,null,null,null,""]
["2019-01-05","sam",null,null,null,"","",null,null,null,null,null,null,""]
["2019-01-06","dim",null,null,null,"","",null,null,null,null,null,null,""]
["2019-01-07","lun",null,null,null,"","",null,null,null,null,null,null,""]
["2019-01-08","mar",null,null,null,"","",null,null,null,null,null,null,""]
["2019-01-09","mer",null,null,null,"","",null,null,null,null,null,null,""]
["2019-01-10","jeu",null,null,null,"","",null,null,null,null,null,null,""]
["2019-01-11","ven",null,null,null,"","",null,null,null,null,null,null,""]
["2019-01-12","sam",null,null,null,"","",null,null,null,null,null,null,""]
["2019-01-13","dim",null,null,null,"","",null,null,null,null,null,null,""]
["2019-01-14","lun",null,null,null,"","",null,null,null,null,null,null,""]
["2019-01-15","mar",null,null,null,"","",null,null,null,null,null,null,""]
["2019-01-16","mer",null,null,null,"","",null,null,null,null,null,null,""]
["2019-01-17","jeu",null,null,null,"","",null,null,null,null,null,null,""]
["2019-01-18","ven",null,null,null,"","",null,null,null,null,null,null,""]
["2019-01-19","sam",null,null,null,"","",null,null,null,null,null,null,""]
["2019-01-20","dim",null,null,null,"","",null,null,null,null,null,null,""]
["2019-01-21","lun",null,null,null,"","",null,null,null,null,null,null,""]
["2019-01-22","mar",null,null,null,"","",null,null,null,null,null,null,""]
["2019-01-23","mer",null,null,null,"","",null,null,null,null,null,null,""]
["2019-01-24","jeu",null,null,null,"","",null,null,null,null,null,null,""]
["2019-01-25","ven",null,null,null,"","",null,null,null,null,null,null,""]
["2019-01-26","sam",null,null,null,"","",null,null,null,null,null,null,""]
["2019-01-27","dim",null,null,null,"","",null,null,null,null,null,null,""]
["2019-01-28","lun",null,null,null,"","",null,null,null,null,null,null,""]
["2019-01-29","mar",null,null,null,"","",null,null,null,null,null,null,""]
["2019-01-30","mer",null,null,null,"","",null,null,null,null,null,null,""]
["2019-01-31","jeu",null,null,null,"","",null,null,null,null,null,null,""]
["2019-02-01","ven",null,null,null,"","",null,null,null,null,null,null,""]
["2019-02-02","sam",null,null,null,"","",null,null,null,null,null,null,""]
["2019-02-03","dim",null,null,null,"","",null,null,null,null,null,null,""]
["2019-02-04","lun",null,null,null,"","",null,null,null,null,null,null,""]
["2019-02-05","mar",null,null,null,"","",null,null,null,null,null,null,""]
["2019-02-06","mer",null,null,null,"","",null,null,null,null,null,null,""]
["2019-02-07","jeu",null,null,null,"","",null,null,null,null,null,null,""]
["2019-02-08","ven",null,null,null,"","",null,null,null,null,null,null,""]
["2019-02-09","sam",null,null,null,"","",null,null,null,null,null,null,""]
["2019-02-10","dim",null,null,null,"","",null,null,null,null,null,null,""]
["2019-02-11","lun",null,null,null,"","",null,null,null,null,null,null,""]
["2019-02-12","mar",null,null,null,"","",null,null,null,null,null,null,""]
["2019-02-13","mer",null,null,null,"","",null,null,null,null,null,null,""]
["2019-02-14","jeu",null,null,null,"","",null,null,null,null,null,null,""]
["2019-02-15","ven",null,null,null,"","",null,null,null,null,null,null,""]
["2019-02-16","sam",null,null,null,"","",null,null,null,null,null,null,""]
["2019-02-17","dim",null,null,null,"","",null,null,null,null,null,null,""]
["2019-02-18","lun",null,null,null,"","",null,null,null,null,null,null,""]
["2019-02-19","mar",null,null,null,"","",null,null,null,null,null,null,""]
["2019-02-20","mer",null,null,null,"","",null,null,null,null,null,null,""]
["2019-02-21","jeu",null,null,null,"","",null,null,null,null,null,null,""]
["2019-02-22","ven",null,null,null,"","",null,null,null,null,null,null,""]
["2019-02-23","sam",null,null,null,"","",null,null,null,null,null,null,""]
["2019-02-24","dim",null,null,null,"","",null,null,null,null,null,null,""]
["2019-02-25","lun",null,null,null,"","",null,null,null,null,null,null,""]
["2019-02-26","mar",null,null,null,"","",null,null,null,null,null,null,""]
["2019-02-27","mer",null,null,null,"","",null,null,null,null,null,null,""]
["2019-02-28","jeu",null,null,null,"","",null,null,null,null,null,null,""]
["2019-03-01","ven",null,null,null,"","",null,null,null,null,null,null,""]
["2019-03-02","sam",null,null,null,"","",null,null,null,null,null,null,""]
["2019-03-03","dim",null,null,null,"","",null,null,null,null,null,null,""]
["2019-03-04","lun",null,null,null,"","",null,null,null,null,null,null,""]
["2019-03-05","mar",null,null,null,"","",null,null,null,null,null,null,""]
["2019-03-06","mer",null,null,null,"","",null,null,null,null,null,null,{"$f":"IF(M67<>\"\",(L67/M67)/24,\"\")","v":""}]
["2019-03-07","jeu",null,null,null,{"$f":"IF(E68<>\"\",(D68/E68)/24,\"\")","v":""},{"$f":"IF(E68<>\"\",E68/D68,\"\")","v":""},null,null,null,null,null,null,""]
["2019-03-08","ven",null,null,null,"","",null,null,null,null,null,null,""]
["2019-03-09","sam",null,null,null,"","",null,null,null,null,null,null,""]
["2019-03-10","dim",null,null,null,"","",null,null,null,null,null,null,""]
["2019-03-11","lun",null,null,null,"","",null,null,null,null,null,null,""]
["2019-03-12","mar",null,null,null,"","",null,null,null,null,null,null,""]
["2019-03-13","mer",null,null,null,"","",null,null,null,null,null,null,""]
["2019-03-14","jeu",null,null,null,"","",null,null,null,null,null,null,""]
["2019-03-15","ven",null,null,null,"","",null,null,null,null,null,null,""]
["2019-03-16","sam",null,null,null,"","",null,null,null,null,null,null,""]
["2019-03-17","dim",null,null,null,"","",null,null,null,null,null,null,""]
["2019-03-18","lun",null,null,null,"","",null,null,null,null,null,null,""]
["2019-03-19","mar",null,null,null,"","",null,null,null,null,null,null,""]
["2019-03-20","mer",null,null,null,"","",null,null,null,null,null,null,""]
["2019-03-21","jeu",null,null,null,"","",null,null,null,null,null,null,""]
["2019-03-22","ven",null,null,null,"","",null,null,null,null,null,null,""]
["2019-03-23","sam",null,null,null,"","",null,null,null,null,null,null,""]
["2019-03-24","dim",null,null,null,"","",null,null,null,null,null,null,""]
["2019-03-25","lun",null,null,null,"","",null,null,null,null,null,null,""]
["2019-03-26","mar",null,null,null,"","",null,null,null,null,null,null,""]
["2019-03-27","mer",null,null,null,"","",null,null,null,null,null,null,""]
["2019-03-28","jeu",null,null,null,"","",null,null,null,null,null,null,""]
["2019-03-29","ven",null,null,null,"","",null,null,null,null,null,null,""]
["2019-03-30","sam",null,null,null,"","",null,null,null,null,null,null,""]
["2019-03-31","dim",null,null,null,"","",null,null,null,null,null,null,""]
["2019-04-01","lun",null,null,null,"","",null,null,null,null,null,null,""]
["2019-04-02","mar",null,null,null,"","",null,null,null,null,null,null,""]
["2019-04-03","mer",null,null,null,"","",null,null,null,null,null,null,""]
["2019-04-04","jeu",null,null,null,"","",null,null,null,null,null,null,""]
["2019-04-05","ven",null,null,null,"","",null,null,null,null,null,null,""]
["2019-04-06","sam",null,null,null,"","",null,null,null,null,null,null,""]
["2019-04-07","dim",null,null,null,"","",null,null,null,null,null,null,""]
["2019-04-08","lun",null,null,null,"","",null,null,null,null,null,null,""]
["2019-04-09","mar",null,null,null,"","",null,null,null,null,null,null,""]
["2019-04-10","mer",null,null,null,"","",null,null,null,null,null,null,""]
["2019-04-11","jeu",null,null,null,"","",null,null,null,null,null,null,""]
["2019-04-12","ven",null,null,null,"","",null,null,null,null,null,null,""]
["2019-04-13","sam",null,null,null,"","",null,null,null,null,null,null,""]
["2019-04-14","dim",null,null,null,"","",null,null,null,null,null,null,""]
["2019-04-15","lun",null,null,null,"","",null,null,null,null,null,null,""]
["2019-04-16","mar",null,null,null,"","",null,null,null,null,null,null,""]
["2019-04-17","mer",null,null,null,"","",null,null,null,null,null,null,""]
["2019-04-18","jeu",null,null,null,"","",null,null,null,null,null,null,""]
["2019-04-19","ven",null,null,null,"","",null,null,null,null,null,null,""]
["2019-04-20","sam",null,null,null,"","",null,null,null,null,null,null,""]
["2019-04-21","dim",null,null,null,"","",null,null,null,null,null,null,""]
["2019-04-22","lun",null,null,null,"","",null,null,null,null,null,null,""]
["2019-04-23","mar",null,null,null,"","",null,null,null,null,null,null,""]
["2019-04-24","mer",null,null,null,"","",null,null,null,null,null,null,""]
["2019-04-25","jeu",null,null,null,"","",null,null,null,null,null,null,""]
["2019-04-26","ven",null,null,null,"","",null,null,null,null,null,null,""]
["2019-04-27","sam",null,null,null,"","",null,null,null,null,null,null,""]
["2019-04-28","dim",null,null,null,"","",null,null,null,null,null,null,""]
["2019-04-29","lun",null,null,null,"","",null,null,null,null,null,null,""]
["2019-04-30","mar",null,null,null,"","",null,null,null,null,null,null,""]
["2019-05-01","mer",null,null,null,"","",null,null,null,null,null,null,""]
["2019-05-02","jeu",null,null,null,"","",null,null,null,null,null,null,""]
["2019-05-03","ven",null,null,null,"","",null,null,null,null,null,null,""]
["2019-05-04","sam",null,null,null,"","",null,null,null,null,null,null,""]
["2019-05-05","dim",null,null,null,"","",null,null,null,null,null,null,""]
["2019-05-06","lun",null,null,null,"","",null,null,null,null,null,null,""]
["2019-05-07","mar",null,null,null,"","",null,null,null,null,null,null,""]
["2019-05-08","mer",null,null,null,"","",null,null,null,null,null,null,""]
["2019-05-09","jeu",null,null,null,"","",null,null,null,null,null,null,{"$f":"IF(M131<>\"\",(L131/M131)/24,\"\")","v":""}]
["2019-05-10","ven",null,null,null,{"$f":"IF(E132<>\"\",(D132/E132)/24,\"\")","v":""},{"$f":"IF(E132<>\"\",E132/D132,\"\")","v":""},null,null,null,null,null,null,""]
["2019-05-11","sam",null,null,null,"","",null,null,null,null,null,null,""]
["2019-05-12","dim",null,null,null,"","",null,null,null,null,null,null,""]
["2019-05-13","lun",null,null,null,"","",null,null,null,null,null,null,""]
["2019-05-14","mar",null,null,null,"","",null,null,null,null,null,null,""]
["2019-05-15","mer",null,null,null,"","",null,null,null,null,null,null,""]
["2019-05-16","jeu",null,null,null,"","",null,null,null,null,null,null,""]
["2019-05-17","ven",null,null,null,"","",null,null,null,null,null,null,""]
["2019-05-18","sam",null,null,null,"","",null,null,null,null,null,null,""]
["2019-05-19","dim",null,null,null,"","",null,null,null,null,null,null,""]
["2019-05-20","lun",null,null,null,"","",null,null,null,null,null,null,""]
["2019-05-21","mar",null,null,null,"","",null,null,null,null,null,null,""]
["2019-05-22","mer",null,null,null,"","",null,null,null,null,null,null,""]
["2019-05-23","jeu",null,null,null,"","",null,null,null,null,null,null,""]
["2019-05-24","ven",null,null,null,"","",null,null,null,null,null,null,""]
["2019-05-25","sam",null,null,null,"","",null,null,null,null,null,null,""]
["2019-05-26","dim",null,null,null,"","",null,null,null,null,null,null,""]
["2019-05-27","lun",null,null,null,"","",null,null,null,null,null,null,""]
["2019-05-28","mar",null,null,null,"","",null,null,null,null,null,null,""]
["2019-05-29","mer",null,null,null,"","",null,null,null,null,null,null,""]
["2019-05-30","jeu",null,null,null,"","",null,null,null,null,null,null,""]
["2019-05-31","ven",null,null,null,"","",null,null,null,null,null,null,""]
["2019-06-01","sam",null,null,null,"","",null,null,null,null,null,null,""]
["2019-06-02","dim",null,null,null,"","",null,null,null,null,null,null,""]
["2019-06-03","lun",null,null,null,"","",null,null,null,null,null,null,""]
["2019-06-04","mar",null,null,null,"","",null,null,null,null,null,null,""]
["2019-06-05","mer",null,null,null,"","",null,null,null,null,null,null,""]
["2019-06-06","jeu",null,null,null,"","",null,null,null,null,null,null,""]
["2019-06-07","ven",null,null,null,"","",null,null,null,null,null,null,""]
["2019-06-08","sam",null,null,null,"","",null,null,null,null,null,null,""]
["2019-06-09","dim",null,null,null,"","",null,null,null,null,null,null,""]
["2019-06-10","lun",null,null,null,"","",null,null,null,null,null,null,""]
["2019-06-11","mar",null,null,null,"","",null,null,null,null,null,null,""]
["2019-06-12","mer",null,null,null,"","",null,null,null,null,null,null,""]
["2019-06-13","jeu",null,null,null,"","",null,null,null,null,null,null,""]
["2019-06-14","ven",null,null,null,"","",null,null,null,null,null,null,""]
["2019-06-15","sam",null,null,null,"","",null,null,null,null,null,null,""]
["2019-06-16","dim",null,null,null,"","",null,null,null,null,null,null,""]
["2019-06-17","lun",null,null,null,"","",null,null,null,null,null,null,""]
["2019-06-18","mar",null,null,null,"","",null,null,null,null,null,null,""]
["2019-06-19","mer",null,null,null,"","",null,null,null,null,null,null,""]
["2019-06-20","jeu",null,null,null,"","",null,null,null,null,null,null,""]
["2019-06-21","ven",null,null,null,"","",null,null,null,null,null,null,""]
["2019-06-22","sam",null,null,null,"","",null,null,null,null,null,null,""]
["2019-06-23","dim",null,null,null,"","",null,null,null,null,null,null,""]
["2019-06-24","lun",null,null,null,"","",null,null,null,null,null,null,""]
["2019-06-25","mar",null,null,null,"","",null,null,null,null,null,null,""]
["2019-06-26","mer",null,null,null,"","",null,null,null,null,null,null,""]
["2019-06-27","jeu",null,null,null,"","",null,null,null,null,null,null,""]
["2019-06-28","ven",null,null,null,"","",null,null,null,null,null,null,""]
["2019-06-29","sam",null,null,null,"","",null,null,null,null,null,null,""]
["2019-06-30","dim",null,null,null,"","",null,null,null,null,null,null,""]
["2019-07-01","lun",null,null,null,"","",null,null,null,null,null,null,""]
["2019-07-02","mar",null,null,null,"","",null,null,null,null,null,null,""]
["2019-07-03","mer",null,null,null,"","",null,null,null,null,null,null,""]
["2019-07-04","jeu",null,null,null,"","",null,null,null,null,null,null,""]
["2019-07-05","ven",null,null,null,"","",null,null,null,null,null,null,""]
["2019-07-06","sam",null,null,null,"","",null,null,null,null,null,null,""]
["2019-07-07","dim",null,null,null,"","",null,null,null,null,null,null,""]
["2019-07-08","lun",null,null,null,"","",null,null,null,null,null,null,""]
["2019-07-09","mar",null,null,null,"","",null,null,null,null,null,null,""]
["2019-07-10","mer",null,null,null,"","",null,null,null,null,null,null,""]
["2019-07-11","jeu",null,null,null,"","",null,null,null,null,null,null,""]
["2019-07-12","ven",null,null,null,"","",null,null,null,null,null,null,{"$f":"IF(M195<>\"\",(L195/M195)/24,\"\")","v":""}]
["2019-07-13","sam",null,null,null,{"$f":"IF(E196<>\"\",(D196/E196)/24,\"\")","v":""},{"$f":"IF(E196<>\"\",E196/D196,\"\")","v":""},null,null,null,null,null,null,""]
["2019-07-14","dim",null,null,null,"","",null,null,null,null,null,null,""]
["2019-07-15","lun",null,null,null,"","",null,null,null,null,null,null,""]
["2019-07-16","mar",null,null,null,"","",null,null,null,null,null,null,""]
["2019-07-17","mer",null,null,null,"","",null,null,null,null,null,null,""]
["2019-07-18","jeu",null,null,null,"","",null,null,null,null,null,null,""]
["2019-07-19","ven",null,null,null,"","",null,null,null,null,null,null,""]
["2019-07-20","sam",null,null,null,"","",null,null,null,null,null,null,""]
["2019-07-21","dim",null,null,null,"","",null,null,null,null,null,null,""]
["2019-07-22","lun",null,null,null,"","",null,null,null,null,null,null,""]
["2019-07-23","mar",null,null,null,"","",null,null,null,null,null,null,""]
["2019-07-24","mer",null,null,null,"","",null,null,null,null,null,null,""]
["2019-07-25","jeu",null,null,null,"","",null,null,null,null,null,null,""]
["2019-07-26","ven",null,null,null,"","",null,null,null,null,null,null,""]
["2019-07-27","sam",null,null,null,"","",null,null,null,null,null,null,""]
["2019-07-28","dim",null,null,null,"","",null,null,null,null,null,null,""]
["2019-07-29","lun",null,null,null,"","",null,null,null,null,null,null,""]
["2019-07-30","mar",null,null,null,"","",null,null,null,null,null,null,""]
["2019-07-31","mer",null,null,null,"","",null,null,null,null,null,null,""]
["2019-08-01","jeu",null,null,null,"","",null,null,null,null,null,null,""]
["2019-08-02","ven",null,null,null,"","",null,null,null,null,null,null,""]
["2019-08-03","sam",null,null,null,"","",null,null,null,null,null,null,""]
["2019-08-04","dim",null,null,null,"","",null,null,null,null,null,null,""]
["2019-08-05","lun",null,null,null,"","",null,null,null,null,null,null,""]
["2019-08-06","mar",null,null,null,"","",null,null,null,null,null,null,""]
["2019-08-07","mer",null,null,null,"","",null,null,null,null,null,null,""]
["2019-08-08","jeu",null,null,null,"","",null,null,null,null,null,null,""]
["2019-08-09","ven",null,null,null,"","",null,null,null,null,null,null,""]
["2019-08-10","sam",null,null,null,"","",null,null,null,null,null,null,""]
["2019-08-11","dim",null,null,null,"","",null,null,null,null,null,null,""]
["2019-08-12","lun",null,null,null,"","",null,null,null,null,null,null,""]
["2019-08-13","mar",null,null,null,"","",null,null,null,null,null,null,""]
["2019-08-14","mer",null,null,null,"","",null,null,null,null,null,null,""]
["2019-08-15","jeu",null,null,null,"","",null,null,null,null,null,null,""]
["2019-08-16","ven",null,null,null,"","",null,null,null,null,null,null,""]
["2019-08-17","sam",null,null,null,"","",null,null,null,null,null,null,""]
["2019-08-18","dim",null,null,null,"","",null,null,null,null,null,null,""]
["2019-08-19","lun",null,null,null,"","",null,null,null,null,null,null,""]
["2019-08-20","mar",null,null,null,"","",null,null,null,null,null,null,""]
["2019-08-21","mer",null,null,null,"","",null,null,null,null,null,null,""]
["2019-08-22","jeu",null,null,null,"","",null,null,null,null,null,null,""]
["2019-08-23","ven",null,null,null,"","",null,null,null,null,null,null,""]
["2019-08-24","sam",null,null,null,"","",null,null,null,null,null,null,""]
["2019-08-25","dim",null,null,null,"","",null,null,null,null,null,null,""]
["2019-08-26","lun",null,null,null,"","",null,null,null,null,null,null,""]
["2019-08-27","mar",null,null,null,"","",null,null,null,null,null,null,""]
["2019-08-28","mer",null,null,null,"","",null,null,null,null,null,null,""]
["2019-08-29","jeu",null,null,null,"","",null,null,null,null,null,null,""]
["2019-08-30","ven",null,null,null,"","",null,null,null,null,null,null,""]
["2019-08-31","sam",null,null,null,"","",null,null,null,null,null,null,""]
["2019-09-01","dim",null,null,null,"","",null,null,null,null,null,null,""]
["2019-09-02","lun",null,null,null,"","",null,null,null,null,null,null,""]
["2019-09-03","mar",null,null,null,"","",null,null,null,null,null,null,""]
["2019-09-04","mer",null,null,null,"","",null,null,null,null,null,null,""]
["2019-09-05","jeu",null,null,null,"","",null,null,null,null,null,null,""]
["2019-09-06","ven",null,null,null,"","",null,null,null,null,null,null,""]
["2019-09-07","sam",null,null,null,"","",null,null,null,null,null,null,""]
["2019-09-08","dim",null,null,null,"","",null,null,null,null,null,null,""]
["2019-09-09","lun",null,null,null,"","",null,null,null,null,null,null,""]
["2019-09-10","mar",null,null,null,"","",null,null,null,null,null,null,""]
["2019-09-11","mer",null,null,null,"","",null,null,null,null,null,null,""]
["2019-09-12","jeu",null,null,null,"","",null,null,null,null,null,null,""]
["2019-09-13","ven",null,null,null,"","",null,null,null,null,null,null,""]
["2019-09-14","sam",null,null,null,"","",null,null,null,null,null,null,{"$f":"IF(M259<>\"\",(L259/M259)/24,\"\")","v":""}]
["2019-09-15","dim",null,null,null,{"$f":"IF(E260<>\"\",(D260/E260)/24,\"\")","v":""},{"$f":"IF(E260<>\"\",E260/D260,\"\")","v":""},null,null,null,null,null,null,""]
["2019-09-16","lun",null,null,null,"","",null,null,null,null,null,null,""]
["2019-09-17","mar",null,null,null,"","",null,null,null,null,null,null,""]
["2019-09-18","mer",null,null,null,"","",null,null,null,null,null,null,""]
["2019-09-19","jeu",null,null,null,"","",null,null,null,null,null,null,""]
["2019-09-20","ven",null,null,null,"","",null,null,null,null,null,null,""]
["2019-09-21","sam",null,null,null,"","",null,null,null,null,null,null,""]
["2019-09-22","dim",null,null,null,"","",null,null,null,null,null,null,""]
["2019-09-23","lun",null,null,null,"","",null,null,null,null,null,null,""]
["2019-09-24","mar",null,null,null,"","",null,null,null,null,null,null,""]
["2019-09-25","mer",null,null,null,"","",null,null,null,null,null,null,""]
["2019-09-26","jeu",null,null,null,"","",null,null,null,null,null,null,""]
["2019-09-27","ven",null,null,null,"","",null,null,null,null,null,null,""]
["2019-09-28","sam",null,null,null,"","",null,null,null,null,null,null,""]
["2019-09-29","dim",null,null,null,"","",null,null,null,null,null,null,""]
["2019-09-30","lun",null,null,null,"","",null,null,null,null,null,null,""]
["2019-10-01","mar",null,null,null,"","",null,null,null,null,null,null,""]
["2019-10-02","mer",null,null,null,"","",null,null,null,null,null,null,""]
["2019-10-03","jeu",null,null,null,"","",null,null,null,null,null,null,""]
["2019-10-04","ven",null,null,null,"","",null,null,null,null,null,null,""]
["2019-10-05","sam",null,null,null,"","",null,null,null,null,null,null,""]
["2019-10-06","dim",null,null,null,"","",null,null,null,null,null,null,""]
["2019-10-07","lun",null,null,null,"","",null,null,null,null,null,null,""]
["2019-10-08","mar",null,null,null,"","",null,null,null,null,null,null,""]
["2019-10-09","mer",null,null,null,"","",null,null,null,null,null,null,""]
["2019-10-10","jeu",null,null,null,"","",null,null,null,null,null,null,""]
["2019-10-11","ven",null,null,null,"","",null,null,null,null,null,null,""]
["2019-10-12","sam",null,null,null,"","",null,null,null,null,null,null,""]
["2019-10-13","dim",null,null,null,"","",null,null,null,null,null,null,""]
["2019-10-14","lun",null,null,null,"","",null,null,null,null,null,null,""]
["2019-10-15","mar",null,null,null,"","",null,null,null,null,null,null,""]
["2019-10-16","mer",null,null,null,"","",null,null,null,null,null,null,""]
["2019-10-17","jeu",null,null,null,"","",null,null,null,null,null,null,""]
["2019-10-18","ven",null,null,null,"","",null,null,null,null,null,null,""]
["2019-10-19","sam",null,null,null,"","",null,null,null,null,null,null,""]
["2019-10-20","dim",null,null,null,"","",null,null,null,null,null,null,""]
["2019-10-21","lun",null,null,null,"","",null,null,null,null,null,null,""]
["2019-10-22","mar",null,null,null,"","",null,null,null,null,null,null,""]
["2019-10-23","mer",null,null,null,"","",null,null,null,null,null,null,""]
["2019-10-24","jeu",null,null,null,"","",null,null,null,null,null,null,""]
["2019-10-25","ven",null,null,null,"","",null,null,null,null,null,null,""]
["2019-10-26","sam",null,null,null,"","",null,null,null,null,null,null,""]
["2019-10-27","dim",null,null,null,"","",null,null,null,null,null,null,""]
["2019-10-28","lun",null,null,null,"","",null,null,null,null,null,null,""]
["2019-10-29","mar",null,null,null,"","",null,null,null,null,null,null,""]
["2019-10-30","mer",null,null,null,"","",null,null,null,null,null,null,""]
["2019-10-31","jeu",null,null,null,"","",null,null,null,null,null,null,""]
["2019-11-01","ven",null,null,null,"","",null,null,null,null,null,null,""]
["2019-11-02","sam",null,null,null,"","",null,null,null,null,null,null,""]
["2019-11-03","dim",null,null,null,"","",null,null,null,null,null,null,""]
["2019-11-04","lun",null,null,null,"","",null,null,null,null,null,null,""]
["2019-11-05","mar",null,null,null,"","",null,null,null,null,null,null,""]
["2019-11-06","mer",null,null,null,"","",null,null,null,null,null,null,""]
["2019-11-07","jeu",null,null,null,"","",null,null,null,null,null,null,""]
["2019-11-08","ven",null,null,null,"","",null,null,null,null,null,null,""]
["2019-11-09","sam",null,null,null,"","",null,null,null,null,null,null,""]
["2019-11-10","dim",null,null,null,"","",null,null,null,null,null,null,""]
["2019-11-11","lun",null,null,null,"","",null,null,null,null,null,null,""]
["2019-11-12","mar",null,null,null,"","",null,null,null,null,null,null,""]
["2019-11-13","mer",null,null,null,"","",null,null,null,null,null,null,""]
["2019-11-14","jeu",null,null,null,"","",null,null,null,null,null,null,""]
["2019-11-15","ven",null,null,null,"","",null,null,null,null,null,null,""]
["2019-11-16","sam",null,null,null,"","",null,null,null,null,null,null,""]
["2019-11-17","dim",null,null,null,"","",null,null,null,null,null,null,{"$f":"IF(M323<>\"\",(L323/M323)/24,\"\")","v":""}]
["2019-11-18","lun",null,null,null,{"$f":"IF(E324<>\"\",(D324/E324)/24,\"\")","v":""},{"$f":"IF(E324<>\"\",E324/D324,\"\")","v":""},null,null,null,null,null,null,""]
["2019-11-19","mar",null,null,null,"","",null,null,null,null,null,null,""]
["2019-11-20","mer",null,null,null,"","",null,null,null,null,null,null,""]
["2019-11-21","jeu",null,null,null,"","",null,null,null,null,null,null,""]
["2019-11-22","ven",null,null,null,"","",null,null,null,null,null,null,""]
["2019-11-23","sam",null,null,null,"","",null,null,null,null,null,null,""]
["2019-11-24","dim",null,null,null,"","",null,null,null,null,null,null,""]
["2019-11-25","lun",null,null,null,"","",null,null,null,null,null,null,""]
["2019-11-26","mar",null,null,null,"","",null,null,null,null,null,null,""]
["2019-11-27","mer",null,null,null,"","",null,null,null,null,null,null,""]
["2019-11-28","jeu",null,null,null,"","",null,null,null,null,null,null,""]
["2019-11-29","ven",null,null,null,"","",null,null,null,null,null,null,""]
["2019-11-30","sam",null,null,null,"","",null,null,null,null,null,null,""]
["2019-12-01","dim",null,null,null,"","",null,null,null,null,null,null,""]
["2019-12-02","lun",null,null,null,"","",null,null,null,null,null,null,""]
["2019-12-03","mar",null,null,null,"","",null,null,null,null,null,null,""]
["2019-12-04","mer",null,null,null,"","",null,null,null,null,null,null,""]
["2019-12-05","jeu",null,null,null,"","",null,null,null,null,null,null,""]
["2019-12-06","ven",null,null,null,"","",null,null,null,null,null,null,""]
["2019-12-07","sam",null,null,null,"","",null,null,null,null,null,null,""]
["2019-12-08","dim",null,null,null,"","",null,null,null,null,null,null,""]
["2019-12-09","lun",null,null,null,"","",null,null,null,null,null,null,""]
["2019-12-10","mar",null,null,null,"","",null,null,null,null,null,null,""]
["2019-12-11","mer",null,null,null,"","",null,null,null,null,null,null,""]
["2019-12-12","jeu",null,null,null,"","",null,null,null,null,null,null,""]
["2019-12-13","ven",null,null,null,"","",null,null,null,null,null,null,""]
["2019-12-14","sam",null,null,null,"","",null,null,null,null,null,null,""]
["2019-12-15","dim",null,null,null,"","",null,null,null,null,null,null,""]
["2019-12-16","lun",null,null,null,"","",null,null,null,null,null,null,""]
["2019-12-17","mar",null,null,null,"","",null,null,null,null,null,null,""]
["2019-12-18","mer",null,null,null,"","",null,null,null,null,null,null,""]
["2019-12-19","jeu",null,null,null,"","",null,null,null,null,null,null,""]
["2019-12-20","ven",null,null,null,"","",null,null,null,null,null,null,""]
["2019-12-21","sam",null,null,null,"","",null,null,null,null,null,null,""]
["2019-12-22","dim",null,null,null,"","",null,null,null,null,null,null,""]
["2019-12-23","lun",null,null,null,"","",null,null,null,null,null,null,""]
["2019-12-24","mar",null,null,null,"","",null,null,null,null,null,null,""]
["2019-12-25","mer",null,null,null,"","",null,null,null,null,null,null,""]
["2019-12-26","jeu",null,null,null,"","",null,null,null,null,null,null,""]
["2019-12-27","ven",null,null,null,"","",null,null,null,null,null,null,""]
["2019-12-28","sam",null,null,null,"","",null,null,null,null,null,null,""]
["2019-12-29","dim",null,null,null,"","",null,null,null,null,null,null,""]
["2019-12-30","lun",null,null,null,"","",null,null,null,null,null,null,""]
["2019-12-31","mar",null,null,null,"","",null,null,null,null,null,null,""]
["2020-01-01","mer",null,null,null,"","",null,null,null,null,null,null,""]
[null,null,null,null,null,"","",null,null,null,null,null,null,""]
[null,null,null,null,null,null,null,null,null,null,null,null,null,""]

{"sheet":"Bilan","index":1,"n_rows":69,"n_cols":12,"rows_kept":69,"cut":false,"hidden":false,"merged":[[67,8,67,11],[68,0,68,3],[63,0,63,3],[64,0,64,3],[65,0,65,3],[66,0,66,3],[67,0,67,3],[67,4,67,7],[62,0,62,3],[0,0,0,3],[54,0,54,3],[54,4,54,7],[54,8,54,11],[55,0,55,3],[56,0,56,3],[57,0,57,3],[58,0,58,3],[59,0,59,3],[60,0,60,3],[61,0,61,3]]}
["Période",null,null,null,"cap","vélo","natation"," Tps cap","Tps vélo","Tps natation","Tps autre","Tps Total"]
[1,"2019-01-01","au","2019-01-06",{"$f":"IF(SUM(Entraînement!D3:D8)=0,\"\",SUM(Entraînement!D3:D8))","v":""},{"$f":"IF(SUM(Entraînement!L3:L8)=0,\"\",SUM(Entraînement!L3:L8))","v":""},{"$f":"IF(SUM(Entraînement!T3:T8)=0,\"\",SUM(Entraînement!T3:T8))","v":""},{"$f":"IF(SUM(Entraînement!E3:E8)=0,\"\",SUM(Entraînement!E3:E8))","v":""},{"$f":"IF(SUM(Entraînement!M3:M8)=0,\"\",SUM(Entraînement!M3:M8))","v":""},{"$f":"IF(SUM(Entraînement!U3:U8)=0,\"\",SUM(Entraînement!U3:U8))","v":""},{"$f":"IF(SUM(Entraînement!X3:X8)=0,\"\",SUM(Entraînement!X3:X8))","v":""},{"$f":"IF(SUM(H2:K2)=0,\"\",SUM(H2:K2))","v":""}]
[2,"2019-01-07","au","2019-01-13",{"$f":"IF(SUM(Entraînement!D9:D15)=0,\"\",SUM(Entraînement!D9:D15))","v":""},{"$f":"IF(SUM(Entraînement!L9:L15)=0,\"\",SUM(Entraînement!L9:L15))","v":""},{"$f":"IF(SUM(Entraînement!T9:T15)=0,\"\",SUM(Entraînement!T9:T15))","v":""},{"$f":"IF(SUM(Entraînement!E9:E15)=0,\"\",SUM(Entraînement!E9:E15))","v":""},{"$f":"IF(SUM(Entraînement!M9:M15)=0,\"\",SUM(Entraînement!M9:M15))","v":""},{"$f":"IF(SUM(Entraînement!U9:U15)=0,\"\",SUM(Entraînement!U9:U15))","v":""},{"$f":"IF(SUM(Entraînement!X9:X15)=0,\"\",SUM(Entraînement!X9:X15))","v":""},{"$f":"IF(SUM(H3:K3)=0,\"\",SUM(H3:K3))","v":""}]
[3,"2019-01-14","au","2019-01-20",{"$f":"IF(SUM(Entraînement!D16:D22)=0,\"\",SUM(Entraînement!D16:D22))","v":""},{"$f":"IF(SUM(Entraînement!L16:L22)=0,\"\",SUM(Entraînement!L16:L22))","v":""},{"$f":"IF(SUM(Entraînement!T16:T22)=0,\"\",SUM(Entraînement!T16:T22))","v":""},{"$f":"IF(SUM(Entraînement!E16:E22)=0,\"\",SUM(Entraînement!E16:E22))","v":""},{"$f":"IF(SUM(Entraînement!M16:M22)=0,\"\",SUM(Entraînement!M16:M22))","v":""},{"$f":"IF(SUM(Entraînement!U16:U22)=0,\"\",SUM(Entraînement!U16:U22))","v":""},{"$f":"IF(SUM(Entraînement!X16:X22)=0,\"\",SUM(Entraînement!X16:X22))","v":""},{"$f":"IF(SUM(H4:K4)=0,\"\",SUM(H4:K4))","v":""}]
[4,"2019-01-21","au","2019-01-27",{"$f":"IF(SUM(Entraînement!D23:D29)=0,\"\",SUM(Entraînement!D23:D29))","v":""},{"$f":"IF(SUM(Entraînement!L23:L29)=0,\"\",SUM(Entraînement!L23:L29))","v":""},{"$f":"IF(SUM(Entraînement!T23:T29)=0,\"\",SUM(Entraînement!T23:T29))","v":""},{"$f":"IF(SUM(Entraînement!E23:E29)=0,\"\",SUM(Entraînement!E23:E29))","v":""},{"$f":"IF(SUM(Entraînement!M23:M29)=0,\"\",SUM(Entraînement!M23:M29))","v":""},{"$f":"IF(SUM(Entraînement!U23:U29)=0,\"\",SUM(Entraînement!U23:U29))","v":""},{"$f":"IF(SUM(Entraînement!X23:X29)=0,\"\",SUM(Entraînement!X23:X29))","v":""},""]
[5,"2019-01-28","au","2019-02-03",{"$f":"IF(SUM(Entraînement!D30:D36)=0,\"\",SUM(Entraînement!D30:D36))","v":""},{"$f":"IF(SUM(Entraînement!L30:L36)=0,\"\",SUM(Entraînement!L30:L36))","v":""},{"$f":"IF(SUM(Entraînement!T30:T36)=0,\"\",SUM(Entraînement!T30:T36))","v":""},{"$f":"IF(SUM(Entraînement!E30:E36)=0,\"\",SUM(Entraînement!E30:E36))","v":""},{"$f":"IF(SUM(Entraînement!M30:M36)=0,\"\",SUM(Entraînement!M30:M36))","v":""},{"$f":"IF(SUM(Entraînement!U30:U36)=0,\"\",SUM(Entraînement!U30:U36))","v":""},{"$f":"IF(SUM(Entraînement!X30:X36)=0,\"\",SUM(Entraînement!X30:X36))","v":""},""]
[6,"2019-02-04","au","2019-02-10",{"$f":"IF(SUM(Entraînement!D37:D43)=0,\"\",SUM(Entraînement!D37:D43))","v":""},{"$f":"IF(SUM(Entraînement!L37:L43)=0,\"\",SUM(Entraînement!L37:L43))","v":""},{"$f":"IF(SUM(Entraînement!T37:T43)=0,\"\",SUM(Entraînement!T37:T43))","v":""},{"$f":"IF(SUM(Entraînement!E37:E43)=0,\"\",SUM(Entraînement!E37:E43))","v":""},{"$f":"IF(SUM(Entraînement!M37:M43)=0,\"\",SUM(Entraînement!M37:M43))","v":""},{"$f":"IF(SUM(Entraînement!U37:U43)=0,\"\",SUM(Entraînement!U37:U43))","v":""},{"$f":"IF(SUM(Entraînement!X37:X43)=0,\"\",SUM(Entraînement!X37:X43))","v":""},""]
[7,"2019-02-11","au","2019-02-17",{"$f":"IF(SUM(Entraînement!D44:D50)=0,\"\",SUM(Entraînement!D44:D50))","v":""},{"$f":"IF(SUM(Entraînement!L44:L50)=0,\"\",SUM(Entraînement!L44:L50))","v":""},{"$f":"IF(SUM(Entraînement!T44:T50)=0,\"\",SUM(Entraînement!T44:T50))","v":""},{"$f":"IF(SUM(Entraînement!E44:E50)=0,\"\",SUM(Entraînement!E44:E50))","v":""},{"$f":"IF(SUM(Entraînement!M44:M50)=0,\"\",SUM(Entraînement!M44:M50))","v":""},{"$f":"IF(SUM(Entraînement!U44:U50)=0,\"\",SUM(Entraînement!U44:U50))","v":""},{"$f":"IF(SUM(Entraînement!X44:X50)=0,\"\",SUM(Entraînement!X44:X50))","v":""},""]
[8,"2019-02-18","au","2019-02-24",{"$f":"IF(SUM(Entraînement!D51:D57)=0,\"\",SUM(Entraînement!D51:D57))","v":""},{"$f":"IF(SUM(Entraînement!L51:L57)=0,\"\",SUM(Entraînement!L51:L57))","v":""},{"$f":"IF(SUM(Entraînement!T51:T57)=0,\"\",SUM(Entraînement!T51:T57))","v":""},{"$f":"IF(SUM(Entraînement!E51:E57)=0,\"\",SUM(Entraînement!E51:E57))","v":""},{"$f":"IF(SUM(Entraînement!M51:M57)=0,\"\",SUM(Entraînement!M51:M57))","v":""},{"$f":"IF(SUM(Entraînement!U51:U57)=0,\"\",SUM(Entraînement!U51:U57))","v":""},{"$f":"IF(SUM(Entraînement!X51:X57)=0,\"\",SUM(Entraînement!X51:X57))","v":""},""]
[9,"2019-02-25","au","2019-03-03",{"$f":"IF(SUM(Entraînement!D58:D64)=0,\"\",SUM(Entraînement!D58:D64))","v":""},{"$f":"IF(SUM(Entraînement!L58:L64)=0,\"\",SUM(Entraînement!L58:L64))","v":""},{"$f":"IF(SUM(Entraînement!T58:T64)=0,\"\",SUM(Entraînement!T58:T64))","v":""},{"$f":"IF(SUM(Entraînement!E58:E64)=0,\"\",SUM(Entraînement!E58:E64))","v":""},{"$f":"IF(SUM(Entraînement!M58:M64)=0,\"\",SUM(Entraînement!M58:M64))","v":""},{"$f":"IF(SUM(Entraînement!U58:U64)=0,\"\",SUM(Entraînement!U58:U64))","v":""},{"$f":"IF(SUM(Entraînement!X58:X64)=0,\"\",SUM(Entraînement!X58:X64))","v":""},""]
[10,"2019-03-04","au","2019-03-10",{"$f":"IF(SUM(Entraînement!D65:D71)=0,\"\",SUM(Entraînement!D65:D71))","v":""},{"$f":"IF(SUM(Entraînement!L65:L71)=0,\"\",SUM(Entraînement!L65:L71))","v":""},{"$f":"IF(SUM(Entraînement!T65:T71)=0,\"\",SUM(Entraînement!T65:T71))","v":""},{"$f":"IF(SUM(Entraînement!E65:E71)=0,\"\",SUM(Entraînement!E65:E71))","v":""},{"$f":"IF(SUM(Entraînement!M65:M71)=0,\"\",SUM(Entraînement!M65:M71))","v":""},{"$f":"IF(SUM(Entraînement!U65:U71)=0,\"\",SUM(Entraînement!U65:U71))","v":""},{"$f":"IF(SUM(Entraînement!X65:X71)=0,\"\",SUM(Entraînement!X65:X71))","v":""},""]
[11,"2019-03-11","au","2019-03-17",{"$f":"IF(SUM(Entraînement!D72:D78)=0,\"\",SUM(Entraînement!D72:D78))","v":""},{"$f":"IF(SUM(Entraînement!L72:L78)=0,\"\",SUM(Entraînement!L72:L78))","v":""},{"$f":"IF(SUM(Entraînement!T72:T78)=0,\"\",SUM(Entraînement!T72:T78))","v":""},{"$f":"IF(SUM(Entraînement!E72:E78)=0,\"\",SUM(Entraînement!E72:E78))","v":""},{"$f":"IF(SUM(Entraînement!M72:M78)=0,\"\",SUM(Entraînement!M72:M78))","v":""},{"$f":"IF(SUM(Entraînement!U72:U78)=0,\"\",SUM(Entraînement!U72:U78))","v":""},{"$f":"IF(SUM(Entraînement!X72:X78)=0,\"\",SUM(Entraînement!X72:X78))","v":""},""]
[12,"2019-03-18","au","2019-03-24",{"$f":"IF(SUM(Entraînement!D79:D85)=0,\"\",SUM(Entraînement!D79:D85))","v":""},{"$f":"IF(SUM(Entraînement!L79:L85)=0,\"\",SUM(Entraînement!L79:L85))","v":""},{"$f":"IF(SUM(Entraînement!T79:T85)=0,\"\",SUM(Entraînement!T79:T85))","v":""},{"$f":"IF(SUM(Entraînement!E79:E85)=0,\"\",SUM(Entraînement!E79:E85))","v":""},{"$f":"IF(SUM(Entraînement!M79:M85)=0,\"\",SUM(Entraînement!M79:M85))","v":""},{"$f":"IF(SUM(Entraînement!U79:U85)=0,\"\",SUM(Entraînement!U79:U85))","v":""},{"$f":"IF(SUM(Entraînement!X79:X85)=0,\"\",SUM(Entraînement!X79:X85))","v":""},""]
[13,"2019-03-25","au","2019-03-31",{"$f":"IF(SUM(Entraînement!D86:D92)=0,\"\",SUM(Entraînement!D86:D92))","v":""},{"$f":"IF(SUM(Entraînement!L86:L92)=0,\"\",SUM(Entraînement!L86:L92))","v":""},{"$f":"IF(SUM(Entraînement!T86:T92)=0,\"\",SUM(Entraînement!T86:T92))","v":""},{"$f":"IF(SUM(Entraînement!E86:E92)=0,\"\",SUM(Entraînement!E86:E92))","v":""},{"$f":"IF(SUM(Entraînement!M86:M92)=0,\"\",SUM(Entraînement!M86:M92))","v":""},{"$f":"IF(SUM(Entraînement!U86:U92)=0,\"\",SUM(Entraînement!U86:U92))","v":""},{"$f":"IF(SUM(Entraînement!X86:X92)=0,\"\",SUM(Entraînement!X86:X92))","v":""},""]
[14,"2019-04-01","au","2019-04-07",{"$f":"IF(SUM(Entraînement!D93:D99)=0,\"\",SUM(Entraînement!D93:D99))","v":""},{"$f":"IF(SUM(Entraînement!L93:L99)=0,\"\",SUM(Entraînement!L93:L99))","v":""},{"$f":"IF(SUM(Entraînement!T93:T99)=0,\"\",SUM(Entraînement!T93:T99))","v":""},{"$f":"IF(SUM(Entraînement!E93:E99)=0,\"\",SUM(Entraînement!E93:E99))","v":""},{"$f":"IF(SUM(Entraînement!M93:M99)=0,\"\",SUM(Entraînement!M93:M99))","v":""},{"$f":"IF(SUM(Entraînement!U93:U99)=0,\"\",SUM(Entraînement!U93:U99))","v":""},{"$f":"IF(SUM(Entraînement!X93:X99)=0,\"\",SUM(Entraînement!X93:X99))","v":""},""]
[15,"2019-04-08","au","2019-04-14",{"$f":"IF(SUM(Entraînement!D100:D106)=0,\"\",SUM(Entraînement!D100:D106))","v":""},{"$f":"IF(SUM(Entraînement!L100:L106)=0,\"\",SUM(Entraînement!L100:L106))","v":""},{"$f":"IF(SUM(Entraînement!T100:T106)=0,\"\",SUM(Entraînement!T100:T106))","v":""},{"$f":"IF(SUM(Entraînement!E100:E106)=0,\"\",SUM(Entraînement!E100:E106))","v":""},{"$f":"IF(SUM(Entraînement!M100:M106)=0,\"\",SUM(Entraînement!M100:M106))","v":""},{"$f":"IF(SUM(Entraînement!U100:U106)=0,\"\",SUM(Entraînement!U100:U106))","v":""},{"$f":"IF(SUM(Entraînement!X100:X106)=0,\"\",SUM(Entraînement!X100:X106))","v":""},""]
[16,"2019-04-15","au","2019-04-21",{"$f":"IF(SUM(Entraînement!D107:D113)=0,\"\",SUM(Entraînement!D107:D113))","v":""},{"$f":"IF(SUM(Entraînement!L107:L113)=0,\"\",SUM(Entraînement!L107:L113))","v":""},{"$f":"IF(SUM(Entraînement!T107:T113)=0,\"\",SUM(Entraînement!T107:T113))","v":""},{"$f":"IF(SUM(Entraînement!E107:E113)=0,\"\",SUM(Entraînement!E107:E113))","v":""},{"$f":"IF(SUM(Entraînement!M107:M113)=0,\"\",SUM(Entraînement!M107:M113))","v":""},{"$f":"IF(SUM(Entraînement!U107:U113)=0,\"\",SUM(Entraînement!U107:U113))","v":""},{"$f":"IF(SUM(Entraînement!X107:X113)=0,\"\",SUM(Entraînement!X107:X113))","v":""},""]
[17,"2019-04-22","au","2019-04-28",{"$f":"IF(SUM(Entraînement!D114:D120)=0,\"\",SUM(Entraînement!D114:D120))","v":""},{"$f":"IF(SUM(Entraînement!L114:L120)=0,\"\",SUM(Entraînement!L114:L120))","v":""},{"$f":"IF(SUM(Entraînement!T114:T120)=0,\"\",SUM(Entraînement!T114:T120))","v":""},{"$f":"IF(SUM(Entraînement!E114:E120)=0,\"\",SUM(Entraînement!E114:E120))","v":""},{"$f":"IF(SUM(Entraînement!M114:M120)=0,\"\",SUM(Entraînement!M114:M120))","v":""},{"$f":"IF(SUM(Entraînement!U114:U120)=0,\"\",SUM(Entraînement!U114:U120))","v":""},{"$f":"IF(SUM(Entraînement!X114:X120)=0,\"\",SUM(Entraînement!X114:X120))","v":""},""]
[18,"2019-04-29","au","2019-05-05",{"$f":"IF(SUM(Entraînement!D121:D127)=0,\"\",SUM(Entraînement!D121:D127))","v":""},{"$f":"IF(SUM(Entraînement!L121:L127)=0,\"\",SUM(Entraînement!L121:L127))","v":""},{"$f":"IF(SUM(Entraînement!T121:T127)=0,\"\",SUM(Entraînement!T121:T127))","v":""},{"$f":"IF(SUM(Entraînement!E121:E127)=0,\"\",SUM(Entraînement!E121:E127))","v":""},{"$f":"IF(SUM(Entraînement!M121:M127)=0,\"\",SUM(Entraînement!M121:M127))","v":""},{"$f":"IF(SUM(Entraînement!U121:U127)=0,\"\",SUM(Entraînement!U121:U127))","v":""},{"$f":"IF(SUM(Entraînement!X121:X127)=0,\"\",SUM(Entraînement!X121:X127))","v":""},""]
[19,"2019-05-06","au","2019-05-12",{"$f":"IF(SUM(Entraînement!D128:D134)=0,\"\",SUM(Entraînement!D128:D134))","v":""},{"$f":"IF(SUM(Entraînement!L128:L134)=0,\"\",SUM(Entraînement!L128:L134))","v":""},{"$f":"IF(SUM(Entraînement!T128:T134)=0,\"\",SUM(Entraînement!T128:T134))","v":""},{"$f":"IF(SUM(Entraînement!E128:E134)=0,\"\",SUM(Entraînement!E128:E134))","v":""},{"$f":"IF(SUM(Entraînement!M128:M134)=0,\"\",SUM(Entraînement!M128:M134))","v":""},{"$f":"IF(SUM(Entraînement!U128:U134)=0,\"\",SUM(Entraînement!U128:U134))","v":""},{"$f":"IF(SUM(Entraînement!X128:X134)=0,\"\",SUM(Entraînement!X128:X134))","v":""},""]
[20,"2019-05-13","au","2019-05-19",{"$f":"IF(SUM(Entraînement!D135:D141)=0,\"\",SUM(Entraînement!D135:D141))","v":""},{"$f":"IF(SUM(Entraînement!L135:L141)=0,\"\",SUM(Entraînement!L135:L141))","v":""},{"$f":"IF(SUM(Entraînement!T135:T141)=0,\"\",SUM(Entraînement!T135:T141))","v":""},{"$f":"IF(SUM(Entraînement!E135:E141)=0,\"\",SUM(Entraînement!E135:E141))","v":""},{"$f":"IF(SUM(Entraînement!M135:M141)=0,\"\",SUM(Entraînement!M135:M141))","v":""},{"$f":"IF(SUM(Entraînement!U135:U141)=0,\"\",SUM(Entraînement!U135:U141))","v":""},{"$f":"IF(SUM(Entraînement!X135:X141)=0,\"\",SUM(Entraînement!X135:X141))","v":""},""]
[21,"2019-05-20","au","2019-05-26",{"$f":"IF(SUM(Entraînement!D142:D148)=0,\"\",SUM(Entraînement!D142:D148))","v":""},{"$f":"IF(SUM(Entraînement!L142:L148)=0,\"\",SUM(Entraînement!L142:L148))","v":""},{"$f":"IF(SUM(Entraînement!T142:T148)=0,\"\",SUM(Entraînement!T142:T148))","v":""},{"$f":"IF(SUM(Entraînement!E142:E148)=0,\"\",SUM(Entraînement!E142:E148))","v":""},{"$f":"IF(SUM(Entraînement!M142:M148)=0,\"\",SUM(Entraînement!M142:M148))","v":""},{"$f":"IF(SUM(Entraînement!U142:U148)=0,\"\",SUM(Entraînement!U142:U148))","v":""},{"$f":"IF(SUM(Entraînement!X142:X148)=0,\"\",SUM(Entraînement!X142:X148))","v":""},""]
[22,"2019-05-27","au","2019-06-02",{"$f":"IF(SUM(Entraînement!D149:D155)=0,\"\",SUM(Entraînement!D149:D155))","v":""},{"$f":"IF(SUM(Entraînement!L149:L155)=0,\"\",SUM(Entraînement!L149:L155))","v":""},{"$f":"IF(SUM(Entraînement!T149:T155)=0,\"\",SUM(Entraînement!T149:T155))","v":""},{"$f":"IF(SUM(Entraînement!E149:E155)=0,\"\",SUM(Entraînement!E149:E155))","v":""},{"$f":"IF(SUM(Entraînement!M149:M155)=0,\"\",SUM(Entraînement!M149:M155))","v":""},{"$f":"IF(SUM(Entraînement!U149:U155)=0,\"\",SUM(Entraînement!U149:U155))","v":""},{"$f":"IF(SUM(Entraînement!X149:X155)=0,\"\",SUM(Entraînement!X149:X155))","v":""},""]
[23,"2019-06-03","au","2019-06-09",{"$f":"IF(SUM(Entraînement!D156:D162)=0,\"\",SUM(Entraînement!D156:D162))","v":""},{"$f":"IF(SUM(Entraînement!L156:L162)=0,\"\",SUM(Entraînement!L156:L162))","v":""},{"$f":"IF(SUM(Entraînement!T156:T162)=0,\"\",SUM(Entraînement!T156:T162))","v":""},{"$f":"IF(SUM(Entraînement!E156:E162)=0,\"\",SUM(Entraînement!E156:E162))","v":""},{"$f":"IF(SUM(Entraînement!M156:M162)=0,\"\",SUM(Entraînement!M156:M162))","v":""},{"$f":"IF(SUM(Entraînement!U156:U162)=0,\"\",SUM(Entraînement!U156:U162))","v":""},{"$f":"IF(SUM(Entraînement!X156:X162)=0,\"\",SUM(Entraînement!X156:X162))","v":""},""]
[24,"2019-06-10","au","2019-06-16",{"$f":"IF(SUM(Entraînement!D163:D169)=0,\"\",SUM(Entraînement!D163:D169))","v":""},{"$f":"IF(SUM(Entraînement!L163:L169)=0,\"\",SUM(Entraînement!L163:L169))","v":""},{"$f":"IF(SUM(Entraînement!T163:T169)=0,\"\",SUM(Entraînement!T163:T169))","v":""},{"$f":"IF(SUM(Entraînement!E163:E169)=0,\"\",SUM(Entraînement!E163:E169))","v":""},{"$f":"IF(SUM(Entraînement!M163:M169)=0,\"\",SUM(Entraînement!M163:M169))","v":""},{"$f":"IF(SUM(Entraînement!U163:U169)=0,\"\",SUM(Entraînement!U163:U169))","v":""},{"$f":"IF(SUM(Entraînement!X163:X169)=0,\"\",SUM(Entraînement!X163:X169))","v":""},""]
[25,"2019-06-17","au","2019-06-23",{"$f":"IF(SUM(Entraînement!D170:D176)=0,\"\",SUM(Entraînement!D170:D176))","v":""},{"$f":"IF(SUM(Entraînement!L170:L176)=0,\"\",SUM(Entraînement!L170:L176))","v":""},{"$f":"IF(SUM(Entraînement!T170:T176)=0,\"\",SUM(Entraînement!T170:T176))","v":""},{"$f":"IF(SUM(Entraînement!E170:E176)=0,\"\",SUM(Entraînement!E170:E176))","v":""},{"$f":"IF(SUM(Entraînement!M170:M176)=0,\"\",SUM(Entraînement!M170:M176))","v":""},{"$f":"IF(SUM(Entraînement!U170:U176)=0,\"\",SUM(Entraînement!U170:U176))","v":""},{"$f":"IF(SUM(Entraînement!X170:X176)=0,\"\",SUM(Entraînement!X170:X176))","v":""},""]
[26,"2019-06-24","au","2019-06-30",{"$f":"IF(SUM(Entraînement!D177:D183)=0,\"\",SUM(Entraînement!D177:D183))","v":""},{"$f":"IF(SUM(Entraînement!L177:L183)=0,\"\",SUM(Entraînement!L177:L183))","v":""},{"$f":"IF(SUM(Entraînement!T177:T183)=0,\"\",SUM(Entraînement!T177:T183))","v":""},{"$f":"IF(SUM(Entraînement!E177:E183)=0,\"\",SUM(Entraînement!E177:E183))","v":""},{"$f":"IF(SUM(Entraînement!M177:M183)=0,\"\",SUM(Entraînement!M177:M183))","v":""},{"$f":"IF(SUM(Entraînement!U177:U183)=0,\"\",SUM(Entraînement!U177:U183))","v":""},{"$f":"IF(SUM(Entraînement!X177:X183)=0,\"\",SUM(Entraînement!X177:X183))","v":""},""]
[27,"2019-07-01","au","2019-07-07",{"$f":"IF(SUM(Entraînement!D184:D190)=0,\"\",SUM(Entraînement!D184:D190))","v":""},{"$f":"IF(SUM(Entraînement!L184:L190)=0,\"\",SUM(Entraînement!L184:L190))","v":""},{"$f":"IF(SUM(Entraînement!T184:T190)=0,\"\",SUM(Entraînement!T184:T190))","v":""},{"$f":"IF(SUM(Entraînement!E184:E190)=0,\"\",SUM(Entraînement!E184:E190))","v":""},{"$f":"IF(SUM(Entraînement!M184:M190)=0,\"\",SUM(Entraînement!M184:M190))","v":""},{"$f":"IF(SUM(Entraînement!U184:U190)=0,\"\",SUM(Entraînement!U184:U190))","v":""},{"$f":"IF(SUM(Entraînement!X184:X190)=0,\"\",SUM(Entraînement!X184:X190))","v":""},""]
[28,"2019-07-08","au","2019-07-14",{"$f":"IF(SUM(Entraînement!D191:D197)=0,\"\",SUM(Entraînement!D191:D197))","v":""},{"$f":"IF(SUM(Entraînement!L191:L197)=0,\"\",SUM(Entraînement!L191:L197))","v":""},{"$f":"IF(SUM(Entraînement!T191:T197)=0,\"\",SUM(Entraînement!T191:T197))","v":""},{"$f":"IF(SUM(Entraînement!E191:E197)=0,\"\",SUM(Entraînement!E191:E197))","v":""},{"$f":"IF(SUM(Entraînement!M191:M197)=0,\"\",SUM(Entraînement!M191:M197))","v":""},{"$f":"IF(SUM(Entraînement!U191:U197)=0,\"\",SUM(Entraînement!U191:U197))","v":""},{"$f":"IF(SUM(Entraînement!X191:X197)=0,\"\",SUM(Entraînement!X191:X197))","v":""},""]
[29,"2019-07-15","au","2019-07-21",{"$f":"IF(SUM(Entraînement!D198:D204)=0,\"\",SUM(Entraînement!D198:D204))","v":""},{"$f":"IF(SUM(Entraînement!L198:L204)=0,\"\",SUM(Entraînement!L198:L204))","v":""},{"$f":"IF(SUM(Entraînement!T198:T204)=0,\"\",SUM(Entraînement!T198:T204))","v":""},{"$f":"IF(SUM(Entraînement!E198:E204)=0,\"\",SUM(Entraînement!E198:E204))","v":""},{"$f":"IF(SUM(Entraînement!M198:M204)=0,\"\",SUM(Entraînement!M198:M204))","v":""},{"$f":"IF(SUM(Entraînement!U198:U204)=0,\"\",SUM(Entraînement!U198:U204))","v":""},{"$f":"IF(SUM(Entraînement!X198:X204)=0,\"\",SUM(Entraînement!X198:X204))","v":""},""]
[30,"2019-07-22","au","2019-07-28",{"$f":"IF(SUM(Entraînement!D205:D211)=0,\"\",SUM(Entraînement!D205:D211))","v":""},{"$f":"IF(SUM(Entraînement!L205:L211)=0,\"\",SUM(Entraînement!L205:L211))","v":""},{"$f":"IF(SUM(Entraînement!T205:T211)=0,\"\",SUM(Entraînement!T205:T211))","v":""},{"$f":"IF(SUM(Entraînement!E205:E211)=0,\"\",SUM(Entraînement!E205:E211))","v":""},{"$f":"IF(SUM(Entraînement!M205:M211)=0,\"\",SUM(Entraînement!M205:M211))","v":""},{"$f":"IF(SUM(Entraînement!U205:U211)=0,\"\",SUM(Entraînement!U205:U211))","v":""},{"$f":"IF(SUM(Entraînement!X205:X211)=0,\"\",SUM(Entraînement!X205:X211))","v":""},""]
[31,"2019-07-29","au","2019-08-04",{"$f":"IF(SUM(Entraînement!D212:D218)=0,\"\",SUM(Entraînement!D212:D218))","v":""},{"$f":"IF(SUM(Entraînement!L212:L218)=0,\"\",SUM(Entraînement!L212:L218))","v":""},{"$f":"IF(SUM(Entraînement!T212:T218)=0,\"\",SUM(Entraînement!T212:T218))","v":""},{"$f":"IF(SUM(Entraînement!E212:E218)=0,\"\",SUM(Entraînement!E212:E218))","v":""},{"$f":"IF(SUM(Entraînement!M212:M218)=0,\"\",SUM(Entraînement!M212:M218))","v":""},{"$f":"IF(SUM(Entraînement!U212:U218)=0,\"\",SUM(Entraînement!U212:U218))","v":""},{"$f":"IF(SUM(Entraînement!X212:X218)=0,\"\",SUM(Entraînement!X212:X218))","v":""},""]
[32,"2019-08-05","au","2019-08-11",{"$f":"IF(SUM(Entraînement!D219:D225)=0,\"\",SUM(Entraînement!D219:D225))","v":""},{"$f":"IF(SUM(Entraînement!L219:L225)=0,\"\",SUM(Entraînement!L219:L225))","v":""},{"$f":"IF(SUM(Entraînement!T219:T225)=0,\"\",SUM(Entraînement!T219:T225))","v":""},{"$f":"IF(SUM(Entraînement!E219:E225)=0,\"\",SUM(Entraînement!E219:E225))","v":""},{"$f":"IF(SUM(Entraînement!M219:M225)=0,\"\",SUM(Entraînement!M219:M225))","v":""},{"$f":"IF(SUM(Entraînement!U219:U225)=0,\"\",SUM(Entraînement!U219:U225))","v":""},{"$f":"IF(SUM(Entraînement!X219:X225)=0,\"\",SUM(Entraînement!X219:X225))","v":""},""]
[33,"2019-08-12","au","2019-08-18",{"$f":"IF(SUM(Entraînement!D226:D232)=0,\"\",SUM(Entraînement!D226:D232))","v":""},{"$f":"IF(SUM(Entraînement!L226:L232)=0,\"\",SUM(Entraînement!L226:L232))","v":""},{"$f":"IF(SUM(Entraînement!T226:T232)=0,\"\",SUM(Entraînement!T226:T232))","v":""},{"$f":"IF(SUM(Entraînement!E226:E232)=0,\"\",SUM(Entraînement!E226:E232))","v":""},{"$f":"IF(SUM(Entraînement!M226:M232)=0,\"\",SUM(Entraînement!M226:M232))","v":""},{"$f":"IF(SUM(Entraînement!U226:U232)=0,\"\",SUM(Entraînement!U226:U232))","v":""},{"$f":"IF(SUM(Entraînement!X226:X232)=0,\"\",SUM(Entraînement!X226:X232))","v":""},""]
[34,"2019-08-19","au","2019-08-25",{"$f":"IF(SUM(Entraînement!D233:D239)=0,\"\",SUM(Entraînement!D233:D239))","v":""},{"$f":"IF(SUM(Entraînement!L233:L239)=0,\"\",SUM(Entraînement!L233:L239))","v":""},{"$f":"IF(SUM(Entraînement!T233:T239)=0,\"\",SUM(Entraînement!T233:T239))","v":""},{"$f":"IF(SUM(Entraînement!E233:E239)=0,\"\",SUM(Entraînement!E233:E239))","v":""},{"$f":"IF(SUM(Entraînement!M233:M239)=0,\"\",SUM(Entraînement!M233:M239))","v":""},{"$f":"IF(SUM(Entraînement!U233:U239)=0,\"\",SUM(Entraînement!U233:U239))","v":""},{"$f":"IF(SUM(Entraînement!X233:X239)=0,\"\",SUM(Entraînement!X233:X239))","v":""},""]
[35,"2019-08-26","au","2019-09-01",{"$f":"IF(SUM(Entraînement!D240:D246)=0,\"\",SUM(Entraînement!D240:D246))","v":""},{"$f":"IF(SUM(Entraînement!L240:L246)=0,\"\",SUM(Entraînement!L240:L246))","v":""},{"$f":"IF(SUM(Entraînement!T240:T246)=0,\"\",SUM(Entraînement!T240:T246))","v":""},{"$f":"IF(SUM(Entraînement!E240:E246)=0,\"\",SUM(Entraînement!E240:E246))","v":""},{"$f":"IF(SUM(Entraînement!M240:M246)=0,\"\",SUM(Entraînement!M240:M246))","v":""},{"$f":"IF(SUM(Entraînement!U240:U246)=0,\"\",SUM(Entraînement!U240:U246))","v":""},{"$f":"IF(SUM(Entraînement!X240:X246)=0,\"\",SUM(Entraînement!X240:X246))","v":""},""]
[36,"2019-09-02","au","2019-09-08",{"$f":"IF(SUM(Entraînement!D247:D253)=0,\"\",SUM(Entraînement!D247:D253))","v":""},{"$f":"IF(SUM(Entraînement!L247:L253)=0,\"\",SUM(Entraînement!L247:L253))","v":""},{"$f":"IF(SUM(Entraînement!T247:T253)=0,\"\",SUM(Entraînement!T247:T253))","v":""},{"$f":"IF(SUM(Entraînement!E247:E253)=0,\"\",SUM(Entraînement!E247:E253))","v":""},{"$f":"IF(SUM(Entraînement!M247:M253)=0,\"\",SUM(Entraînement!M247:M253))","v":""},{"$f":"IF(SUM(Entraînement!U247:U253)=0,\"\",SUM(Entraînement!U247:U253))","v":""},{"$f":"IF(SUM(Entraînement!X247:X253)=0,\"\",SUM(Entraînement!X247:X253))","v":""},""]
[37,"2019-09-09","au","2019-09-15",{"$f":"IF(SUM(Entraînement!D254:D260)=0,\"\",SUM(Entraînement!D254:D260))","v":""},{"$f":"IF(SUM(Entraînement!L254:L260)=0,\"\",SUM(Entraînement!L254:L260))","v":""},{"$f":"IF(SUM(Entraînement!T254:T260)=0,\"\",SUM(Entraînement!T254:T260))","v":""},{"$f":"IF(SUM(Entraînement!E254:E260)=0,\"\",SUM(Entraînement!E254:E260))","v":""},{"$f":"IF(SUM(Entraînement!M254:M260)=0,\"\",SUM(Entraînement!M254:M260))","v":""},{"$f":"IF(SUM(Entraînement!U254:U260)=0,\"\",SUM(Entraînement!U254:U260))","v":""},{"$f":"IF(SUM(Entraînement!X254:X260)=0,\"\",SUM(Entraînement!X254:X260))","v":""},""]
[38,"2019-09-16","au","2019-09-22",{"$f":"IF(SUM(Entraînement!D261:D267)=0,\"\",SUM(Entraînement!D261:D267))","v":""},{"$f":"IF(SUM(Entraînement!L261:L267)=0,\"\",SUM(Entraînement!L261:L267))","v":""},{"$f":"IF(SUM(Entraînement!T261:T267)=0,\"\",SUM(Entraînement!T261:T267))","v":""},{"$f":"IF(SUM(Entraînement!E261:E267)=0,\"\",SUM(Entraînement!E261:E267))","v":""},{"$f":"IF(SUM(Entraînement!M261:M267)=0,\"\",SUM(Entraînement!M261:M267))","v":""},{"$f":"IF(SUM(Entraînement!U261:U267)=0,\"\",SUM(Entraînement!U261:U267))","v":""},{"$f":"IF(SUM(Entraînement!X261:X267)=0,\"\",SUM(Entraînement!X261:X267))","v":""},""]
[39,"2019-09-23","au","2019-09-29",{"$f":"IF(SUM(Entraînement!D268:D274)=0,\"\",SUM(Entraînement!D268:D274))","v":""},{"$f":"IF(SUM(Entraînement!L268:L274)=0,\"\",SUM(Entraînement!L268:L274))","v":""},{"$f":"IF(SUM(Entraînement!T268:T274)=0,\"\",SUM(Entraînement!T268:T274))","v":""},{"$f":"IF(SUM(Entraînement!E268:E274)=0,\"\",SUM(Entraînement!E268:E274))","v":""},{"$f":"IF(SUM(Entraînement!M268:M274)=0,\"\",SUM(Entraînement!M268:M274))","v":""},{"$f":"IF(SUM(Entraînement!U268:U274)=0,\"\",SUM(Entraînement!U268:U274))","v":""},{"$f":"IF(SUM(Entraînement!X268:X274)=0,\"\",SUM(Entraînement!X268:X274))","v":""},""]
[40,"2019-09-30","au","2019-10-06",{"$f":"IF(SUM(Entraînement!D275:D281)=0,\"\",SUM(Entraînement!D275:D281))","v":""},{"$f":"IF(SUM(Entraînement!L275:L281)=0,\"\",SUM(Entraînement!L275:L281))","v":""},{"$f":"IF(SUM(Entraînement!T275:T281)=0,\"\",SUM(Entraînement!T275:T281))","v":""},{"$f":"IF(SUM(Entraînement!E275:E281)=0,\"\",SUM(Entraînement!E275:E281))","v":""},{"$f":"IF(SUM(Entraînement!M275:M281)=0,\"\",SUM(Entraînement!M275:M281))","v":""},{"$f":"IF(SUM(Entraînement!U275:U281)=0,\"\",SUM(Entraînement!U275:U281))","v":""},{"$f":"IF(SUM(Entraînement!X275:X281)=0,\"\",SUM(Entraînement!X275:X281))","v":""},""]
[41,"2019-10-07","au","2019-10-13",{"$f":"IF(SUM(Entraînement!D282:D288)=0,\"\",SUM(Entraînement!D282:D288))","v":""},{"$f":"IF(SUM(Entraînement!L282:L288)=0,\"\",SUM(Entraînement!L282:L288))","v":""},{"$f":"IF(SUM(Entraînement!T282:T288)=0,\"\",SUM(Entraînement!T282:T288))","v":""},{"$f":"IF(SUM(Entraînement!E282:E288)=0,\"\",SUM(Entraînement!E282:E288))","v":""},{"$f":"IF(SUM(Entraînement!M282:M288)=0,\"\",SUM(Entraînement!M282:M288))","v":""},{"$f":"IF(SUM(Entraînement!U282:U288)=0,\"\",SUM(Entraînement!U282:U288))","v":""},{"$f":"IF(SUM(Entraînement!X282:X288)=0,\"\",SUM(Entraînement!X282:X288))","v":""},""]
[42,"2019-10-14","au","2019-10-20",{"$f":"IF(SUM(Entraînement!D289:D295)=0,\"\",SUM(Entraînement!D289:D295))","v":""},{"$f":"IF(SUM(Entraînement!L289:L295)=0,\"\",SUM(Entraînement!L289:L295))","v":""},{"$f":"IF(SUM(Entraînement!T289:T295)=0,\"\",SUM(Entraînement!T289:T295))","v":""},{"$f":"IF(SUM(Entraînement!E289:E295)=0,\"\",SUM(Entraînement!E289:E295))","v":""},{"$f":"IF(SUM(Entraînement!M289:M295)=0,\"\",SUM(Entraînement!M289:M295))","v":""},{"$f":"IF(SUM(Entraînement!U289:U295)=0,\"\",SUM(Entraînement!U289:U295))","v":""},{"$f":"IF(SUM(Entraînement!X289:X295)=0,\"\",SUM(Entraînement!X289:X295))","v":""},""]
[43,"2019-10-21","au","2019-10-27",{"$f":"IF(SUM(Entraînement!D296:D302)=0,\"\",SUM(Entraînement!D296:D302))","v":""},{"$f":"IF(SUM(Entraînement!L296:L302)=0,\"\",SUM(Entraînement!L296:L302))","v":""},{"$f":"IF(SUM(Entraînement!T296:T302)=0,\"\",SUM(Entraînement!T296:T302))","v":""},{"$f":"IF(SUM(Entraînement!E296:E302)=0,\"\",SUM(Entraînement!E296:E302))","v":""},{"$f":"IF(SUM(Entraînement!M296:M302)=0,\"\",SUM(Entraînement!M296:M302))","v":""},{"$f":"IF(SUM(Entraînement!U296:U302)=0,\"\",SUM(Entraînement!U296:U302))","v":""},{"$f":"IF(SUM(Entraînement!X296:X302)=0,\"\",SUM(Entraînement!X296:X302))","v":""},""]
[44,"2019-10-28","au","2019-11-03",{"$f":"IF(SUM(Entraînement!D303:D309)=0,\"\",SUM(Entraînement!D303:D309))","v":""},{"$f":"IF(SUM(Entraînement!L303:L309)=0,\"\",SUM(Entraînement!L303:L309))","v":""},{"$f":"IF(SUM(Entraînement!T303:T309)=0,\"\",SUM(Entraînement!T303:T309))","v":""},{"$f":"IF(SUM(Entraînement!E303:E309)=0,\"\",SUM(Entraînement!E303:E309))","v":""},{"$f":"IF(SUM(Entraînement!M303:M309)=0,\"\",SUM(Entraînement!M303:M309))","v":""},{"$f":"IF(SUM(Entraînement!U303:U309)=0,\"\",SUM(Entraînement!U303:U309))","v":""},{"$f":"IF(SUM(Entraînement!X303:X309)=0,\"\",SUM(Entraînement!X303:X309))","v":""},""]
[45,"2019-11-04","au","2019-11-10",{"$f":"IF(SUM(Entraînement!D310:D316)=0,\"\",SUM(Entraînement!D310:D316))","v":""},{"$f":"IF(SUM(Entraînement!L310:L316)=0,\"\",SUM(Entraînement!L310:L316))","v":""},{"$f":"IF(SUM(Entraînement!T310:T316)=0,\"\",SUM(Entraînement!T310:T316))","v":""},{"$f":"IF(SUM(Entraînement!E310:E316)=0,\"\",SUM(Entraînement!E310:E316))","v":""},{"$f":"IF(SUM(Entraînement!M310:M316)=0,\"\",SUM(Entraînement!M310:M316))","v":""},{"$f":"IF(SUM(Entraînement!U310:U316)=0,\"\",SUM(Entraînement!U310:U316))","v":""},{"$f":"IF(SUM(Entraînement!X310:X316)=0,\"\",SUM(Entraînement!X310:X316))","v":""},""]
[46,"2019-11-11","au","2019-11-17",{"$f":"IF(SUM(Entraînement!D317:D323)=0,\"\",SUM(Entraînement!D317:D323))","v":""},{"$f":"IF(SUM(Entraînement!L317:L323)=0,\"\",SUM(Entraînement!L317:L323))","v":""},{"$f":"IF(SUM(Entraînement!T317:T323)=0,\"\",SUM(Entraînement!T317:T323))","v":""},{"$f":"IF(SUM(Entraînement!E317:E323)=0,\"\",SUM(Entraînement!E317:E323))","v":""},{"$f":"IF(SUM(Entraînement!M317:M323)=0,\"\",SUM(Entraînement!M317:M323))","v":""},{"$f":"IF(SUM(Entraînement!U317:U323)=0,\"\",SUM(Entraînement!U317:U323))","v":""},{"$f":"IF(SUM(Entraînement!X317:X323)=0,\"\",SUM(Entraînement!X317:X323))","v":""},""]
[47,"2019-11-18","au","2019-11-24",{"$f":"IF(SUM(Entraînement!D324:D330)=0,\"\",SUM(Entraînement!D324:D330))","v":""},{"$f":"IF(SUM(Entraînement!L324:L330)=0,\"\",SUM(Entraînement!L324:L330))","v":""},{"$f":"IF(SUM(Entraînement!T324:T330)=0,\"\",SUM(Entraînement!T324:T330))","v":""},{"$f":"IF(SUM(Entraînement!E324:E330)=0,\"\",SUM(Entraînement!E324:E330))","v":""},{"$f":"IF(SUM(Entraînement!M324:M330)=0,\"\",SUM(Entraînement!M324:M330))","v":""},{"$f":"IF(SUM(Entraînement!U324:U330)=0,\"\",SUM(Entraînement!U324:U330))","v":""},{"$f":"IF(SUM(Entraînement!X324:X330)=0,\"\",SUM(Entraînement!X324:X330))","v":""},""]
[48,"2019-11-25","au","2019-12-01",{"$f":"IF(SUM(Entraînement!D331:D337)=0,\"\",SUM(Entraînement!D331:D337))","v":""},{"$f":"IF(SUM(Entraînement!L331:L337)=0,\"\",SUM(Entraînement!L331:L337))","v":""},{"$f":"IF(SUM(Entraînement!T331:T337)=0,\"\",SUM(Entraînement!T331:T337))","v":""},{"$f":"IF(SUM(Entraînement!E331:E337)=0,\"\",SUM(Entraînement!E331:E337))","v":""},{"$f":"IF(SUM(Entraînement!M331:M337)=0,\"\",SUM(Entraînement!M331:M337))","v":""},{"$f":"IF(SUM(Entraînement!U331:U337)=0,\"\",SUM(Entraînement!U331:U337))","v":""},{"$f":"IF(SUM(Entraînement!X331:X337)=0,\"\",SUM(Entraînement!X331:X337))","v":""},""]
[49,"2019-12-02","au","2019-12-08",{"$f":"IF(SUM(Entraînement!D338:D344)=0,\"\",SUM(Entraînement!D338:D344))","v":""},{"$f":"IF(SUM(Entraînement!L338:L344)=0,\"\",SUM(Entraînement!L338:L344))","v":""},{"$f":"IF(SUM(Entraînement!T338:T344)=0,\"\",SUM(Entraînement!T338:T344))","v":""},{"$f":"IF(SUM(Entraînement!E338:E344)=0,\"\",SUM(Entraînement!E338:E344))","v":""},{"$f":"IF(SUM(Entraînement!M338:M344)=0,\"\",SUM(Entraînement!M338:M344))","v":""},{"$f":"IF(SUM(Entraînement!U338:U344)=0,\"\",SUM(Entraînement!U338:U344))","v":""},{"$f":"IF(SUM(Entraînement!X338:X344)=0,\"\",SUM(Entraînement!X338:X344))","v":""},""]
[50,"2019-12-09","au","2019-12-15",{"$f":"IF(SUM(Entraînement!D345:D351)=0,\"\",SUM(Entraînement!D345:D351))","v":""},{"$f":"IF(SUM(Entraînement!L345:L351)=0,\"\",SUM(Entraînement!L345:L351))","v":""},{"$f":"IF(SUM(Entraînement!T345:T351)=0,\"\",SUM(Entraînement!T345:T351))","v":""},{"$f":"IF(SUM(Entraînement!E345:E351)=0,\"\",SUM(Entraînement!E345:E351))","v":""},{"$f":"IF(SUM(Entraînement!M345:M351)=0,\"\",SUM(Entraînement!M345:M351))","v":""},{"$f":"IF(SUM(Entraînement!U345:U351)=0,\"\",SUM(Entraînement!U345:U351))","v":""},{"$f":"IF(SUM(Entraînement!X345:X351)=0,\"\",SUM(Entraînement!X345:X351))","v":""},""]
[51,"2019-12-16","au","2019-12-22",{"$f":"IF(SUM(Entraînement!D352:D358)=0,\"\",SUM(Entraînement!D352:D358))","v":""},{"$f":"IF(SUM(Entraînement!L352:L358)=0,\"\",SUM(Entraînement!L352:L358))","v":""},{"$f":"IF(SUM(Entraînement!T352:T358)=0,\"\",SUM(Entraînement!T352:T358))","v":""},{"$f":"IF(SUM(Entraînement!E352:E358)=0,\"\",SUM(Entraînement!E352:E358))","v":""},{"$f":"IF(SUM(Entraînement!M352:M358)=0,\"\",SUM(Entraînement!M352:M358))","v":""},{"$f":"IF(SUM(Entraînement!U352:U358)=0,\"\",SUM(Entraînement!U352:U358))","v":""},{"$f":"IF(SUM(Entraînement!X352:X358)=0,\"\",SUM(Entraînement!X352:X358))","v":""},""]
[52,"2019-12-23","au","2019-12-29",{"$f":"IF(SUM(Entraînement!D359:D365)=0,\"\",SUM(Entraînement!D359:D365))","v":""},{"$f":"IF(SUM(Entraînement!L359:L365)=0,\"\",SUM(Entraînement!L359:L365))","v":""},{"$f":"IF(SUM(Entraînement!T359:T365)=0,\"\",SUM(Entraînement!T359:T365))","v":""},{"$f":"IF(SUM(Entraînement!E359:E365)=0,\"\",SUM(Entraînement!E359:E365))","v":""},{"$f":"IF(SUM(Entraînement!M359:M365)=0,\"\",SUM(Entraînement!M359:M365))","v":""},{"$f":"IF(SUM(Entraînement!U359:U365)=0,\"\",SUM(Entraînement!U359:U365))","v":""},{"$f":"IF(SUM(Entraînement!X359:X365)=0,\"\",SUM(Entraînement!X359:X365))","v":""},""]
[53,"2019-12-30","au","2020-01-05",{"$f":"IF(SUM(Entraînement!D366:D366)=0,\"\",SUM(Entraînement!D366:D366))","v":""},{"$f":"IF(SUM(Entraînement!L366:L366)=0,\"\",SUM(Entraînement!L366:L366))","v":""},{"$f":"IF(SUM(Entraînement!T366:T366)=0,\"\",SUM(Entraînement!T366:T366))","v":""},{"$f":"IF(SUM(Entraînement!E366:E366)=0,\"\",SUM(Entraînement!E366:E366))","v":""},{"$f":"IF(SUM(Entraînement!M366:M366)=0,\"\",SUM(Entraînement!M366:M366))","v":""},{"$f":"IF(SUM(Entraînement!U366:U366)=0,\"\",SUM(Entraînement!U366:U366))","v":""},{"$f":"IF(SUM(Entraînement!X366:X366)=0,\"\",SUM(Entraînement!X366:X366))","v":""},""]
["MENSUEL",null,null,null,null,null,null,null,{"$f":"IF(SUM(Entraînement!M367:M368)=0,\"\",SUM(Entraînement!M367:M368))","v":""}]
["JANVIER",null,null,null,{"$f":"SUMIFS(Entraînement!$D$3:$D$380,Entraînement!$A$3:$A$380,\"<01/02/\"&YEAR(D53))","v":0},{"$f":"SUMIFS(Entraînement!$L$3:$L$380,Entraînement!$A$3:$A$380,\"<01/02/\"&YEAR($D$53))","v":0},{"$f":"SUMIFS(Entraînement!$T$3:$T$380,Entraînement!$A$3:$A$380,\"<01/02/\"&YEAR($D$53))","v":0},{"$f":"SUMIFS(Entraînement!$E$3:$E$380,Entraînement!$A$3:$A$380,\"<01/02/\"&YEAR($D$53))","v":0},{"$f":"SUMIFS(Entraînement!$M$3:$M$380,Entraînement!$A$3:$A$380,\"<01/02/\"&YEAR($D$53))","v":0},{"$f":"SUMIFS(Entraînement!$U$3:$U$380,Entraînement!$A$3:$A$380,\"<01/02/\"&YEAR($D$53))","v":0},{"$f":"SUMIFS(Entraînement!$X$3:$X$380,Entraînement!$A$3:$A$380,\"<01/02/\"&YEAR($D$53))","v":0},{"$f":"IF(SUM(H56:K56)=0,\"\",SUM(H56:K56))","v":""}]
["FÉVRIER",null,null,null,{"$f":"SUMIFS(Entraînement!$D$3:$D$380,Entraînement!$A$3:$A$380,\"<01/03/\"&YEAR(D53))-E56","v":0},{"$f":"SUMIFS(Entraînement!$L$3:$L$380,Entraînement!$A$3:$A$380,\"<01/03/\"&YEAR($D$53))-F56","v":0},{"$f":"SUMIFS(Entraînement!$T$3:$T$380,Entraînement!$A$3:$A$380,\"<01/03/\"&YEAR($D$53))-G56","v":0},{"$f":"SUMIFS(Entraînement!$E$3:$E$380,Entraînement!$A$3:$A$380,\"<01/03/\"&YEAR($D$53))-H56","v":0},{"$f":"SUMIFS(Entraînement!$M$3:$M$380,Entraînement!$A$3:$A$380,\"<01/03/\"&YEAR($D$53))-I56","v":0},{"$f":"SUMIFS(Entraînement!$U$3:$U$380,Entraînement!$A$3:$A$380,\"<01/03/\"&YEAR($D$53))-J56","v":0},{"$f":"SUMIFS(Entraînement!$X$3:$X$380,Entraînement!$A$3:$A$380,\"<01/03/\"&YEAR($D$53))-K56","v":0},{"$f":"IF(SUM(H57:K57)=0,\"\",SUM(H57:K57))","v":""}]
["MARS",null,null,null,{"$f":"SUMIFS(Entraînement!$D$3:$D$380,Entraînement!$A$3:$A$380,\"<01/04/\"&YEAR(D53))-SUM($E$56:E57)","v":0},{"$f":"SUMIFS(Entraînement!$L$3:$L$380,Entraînement!$A$3:$A$380,\"<01/04/\"&YEAR($D$53))-SUM($F$56:F57)","v":0},{"$f":"SUMIFS(Entraînement!$T$3:$T$380,Entraînement!$A$3:$A$380,\"<01/04/\"&YEAR($D$53))-SUM($G$56:G57)","v":0},{"$f":"SUMIFS(Entraînement!$E$3:$E$380,Entraînement!$A$3:$A$380,\"<01/04/\"&YEAR($D$53))-SUM($H$56:H57)","v":0},{"$f":"SUMIFS(Entraînement!$M$3:$M$380,Entraînement!$A$3:$A$380,\"<01/04/\"&YEAR($D$53))-SUM($I$56:I57)","v":0},{"$f":"SUMIFS(Entraînement!$U$3:$U$380,Entraînement!$A$3:$A$380,\"<01/04/\"&YEAR($D$53))-SUM($J$56:J57)","v":0},{"$f":"SUMIFS(Entraînement!$X$3:$X$380,Entraînement!$A$3:$A$380,\"<01/04/\"&YEAR($D$53))-SUM($K$56:K57)","v":0},""]
["AVRIL",null,null,null,{"$f":"SUMIFS(Entraînement!$D$3:$D$380,Entraînement!$A$3:$A$380,\"<01/05/\"&YEAR(D53))-SUM($E$56:E58)","v":0},{"$f":"SUMIFS(Entraînement!$L$3:$L$380,Entraînement!$A$3:$A$380,\"<01/05/\"&YEAR($D$53))-SUM($F$56:F58)","v":0},{"$f":"SUMIFS(Entraînement!$T$3:$T$380,Entraînement!$A$3:$A$380,\"<01/05/\"&YEAR($D$53))-SUM($G$56:G58)","v":0},{"$f":"SUMIFS(Entraînement!$E$3:$E$380,Entraînement!$A$3:$A$380,\"<01/05/\"&YEAR($D$53))-SUM($H$56:H58)","v":0},{"$f":"SUMIFS(Entraînement!$M$3:$M$380,Entraînement!$A$3:$A$380,\"<01/05/\"&YEAR($D$53))-SUM($I$56:I58)","v":0},{"$f":"SUMIFS(Entraînement!$U$3:$U$380,Entraînement!$A$3:$A$380,\"<01/05/\"&YEAR($D$53))-SUM($J$56:J58)","v":0},{"$f":"SUMIFS(Entraînement!$X$3:$X$380,Entraînement!$A$3:$A$380,\"<01/05/\"&YEAR($D$53))-SUM($K$56:K58)","v":0},""]
["MAI",null,null,null,{"$f":"SUMIFS(Entraînement!$D$3:$D$380,Entraînement!$A$3:$A$380,\"<01/06/\"&YEAR(D53))-SUM($E$56:E59)","v":0},{"$f":"SUMIFS(Entraînement!$L$3:$L$380,Entraînement!$A$3:$A$380,\"<01/06/\"&YEAR($D$53))-SUM($F$56:F59)","v":0},{"$f":"SUMIFS(Entraînement!$T$3:$T$380,Entraînement!$A$3:$A$380,\"<01/06/\"&YEAR($D$53))-SUM($G$56:G59)","v":0},{"$f":"SUMIFS(Entraînement!$E$3:$E$380,Entraînement!$A$3:$A$380,\"<01/06/\"&YEAR($D$53))-SUM($H$56:H59)","v":0},{"$f":"SUMIFS(Entraînement!$M$3:$M$380,Entraînement!$A$3:$A$380,\"<01/06/\"&YEAR($D$53))-SUM($I$56:I59)","v":0},{"$f":"SUMIFS(Entraînement!$U$3:$U$380,Entraînement!$A$3:$A$380,\"<01/06/\"&YEAR($D$53))-SUM($J$56:J59)","v":0},{"$f":"SUMIFS(Entraînement!$X$3:$X$380,Entraînement!$A$3:$A$380,\"<01/06/\"&YEAR($D$53))-SUM($K$56:K59)","v":0},""]
["JUIN",null,null,null,{"$f":"SUMIFS(Entraînement!$D$3:$D$380,Entraînement!$A$3:$A$380,\"<01/07/\"&YEAR(D53))-SUM($E$56:E60)","v":0},{"$f":"SUMIFS(Entraînement!$L$3:$L$380,Entraînement!$A$3:$A$380,\"<01/07/\"&YEAR($D$53))-SUM($F$56:F60)","v":0},{"$f":"SUMIFS(Entraînement!$T$3:$T$380,Entraînement!$A$3:$A$380,\"<01/07/\"&YEAR($D$53))-SUM($G$56:G60)","v":0},{"$f":"SUMIFS(Entraînement!$E$3:$E$380,Entraînement!$A$3:$A$380,\"<01/07/\"&YEAR($D$53))-SUM($H$56:H60)","v":0},{"$f":"SUMIFS(Entraînement!$M$3:$M$380,Entraînement!$A$3:$A$380,\"<01/07/\"&YEAR($D$53))-SUM($I$56:I60)","v":0},{"$f":"SUMIFS(Entraînement!$U$3:$U$380,Entraînement!$A$3:$A$380,\"<01/07/\"&YEAR($D$53))-SUM($J$56:J60)","v":0},{"$f":"SUMIFS(Entraînement!$X$3:$X$380,Entraînement!$A$3:$A$380,\"<01/07/\"&YEAR($D$53))-SUM($K$56:K60)","v":0},""]
["JUILLET",null,null,null,{"$f":"SUMIFS(Entraînement!$D$3:$D$380,Entraînement!$A$3:$A$380,\"<01/08/\"&YEAR(D53))-SUM($E$56:E61)","v":0},{"$f":"SUMIFS(Entraînement!$L$3:$L$380,Entraînement!$A$3:$A$380,\"<01/08/\"&YEAR($D$53))-SUM($F$56:F61)","v":0},{"$f":"SUMIFS(Entraînement!$T$3:$T$380,Entraînement!$A$3:$A$380,\"<01/08/\"&YEAR($D$53))-SUM($G$56:G61)","v":0},{"$f":"SUMIFS(Entraînement!$E$3:$E$380,Entraînement!$A$3:$A$380,\"<01/08/\"&YEAR($D$53))-SUM($H$56:H61)","v":0},{"$f":"SUMIFS(Entraînement!$M$3:$M$380,Entraînement!$A$3:$A$380,\"<01/08/\"&YEAR($D$53))-SUM($I$56:I61)","v":0},{"$f":"SUMIFS(Entraînement!$U$3:$U$380,Entraînement!$A$3:$A$380,\"<01/08/\"&YEAR($D$53))-SUM($J$56:J61)","v":0},{"$f":"SUMIFS(Entraînement!$X$3:$X$380,Entraînement!$A$3:$A$380,\"<01/08/\"&YEAR($D$53))-SUM($K$56:K61)","v":0},""]
["AOÛT",null,null,null,{"$f":"SUMIFS(Entraînement!$D$3:$D$380,Entraînement!$A$3:$A$380,\"<01/09/\"&YEAR(D53))-SUM($E$56:E62)","v":0},{"$f":"SUMIFS(Entraînement!$L$3:$L$380,Entraînement!$A$3:$A$380,\"<01/09/\"&YEAR($D$53))-SUM($F$56:F62)","v":0},{"$f":"SUMIFS(Entraînement!$T$3:$T$380,Entraînement!$A$3:$A$380,\"<01/09/\"&YEAR($D$53))-SUM($G$56:G62)","v":0},{"$f":"SUMIFS(Entraînement!$E$3:$E$380,Entraînement!$A$3:$A$380,\"<01/09/\"&YEAR($D$53))-SUM($H$56:H62)","v":0},{"$f":"SUMIFS(Entraînement!$M$3:$M$380,Entraînement!$A$3:$A$380,\"<01/09/\"&YEAR($D$53))-SUM($I$56:I62)","v":0},{"$f":"SUMIFS(Entraînement!$U$3:$U$380,Entraînement!$A$3:$A$380,\"<01/09/\"&YEAR($D$53))-SUM($J$56:J62)","v":0},{"$f":"SUMIFS(Entraînement!$X$3:$X$380,Entraînement!$A$3:$A$380,\"<01/09/\"&YEAR($D$53))-SUM($K$56:K62)","v":0},""]
["SEPTEMBRE",null,null,null,{"$f":"SUMIFS(Entraînement!$D$3:$D$380,Entraînement!$A$3:$A$380,\"<01/10/\"&YEAR(D53))-SUM($E$56:E63)","v":0},{"$f":"SUMIFS(Entraînement!$L$3:$L$380,Entraînement!$A$3:$A$380,\"<01/10/\"&YEAR($D$53))-SUM($F$56:F63)","v":0},{"$f":"SUMIFS(Entraînement!$T$3:$T$380,Entraînement!$A$3:$A$380,\"<01/10/\"&YEAR($D$53))-SUM($G$56:G63)","v":0},{"$f":"SUMIFS(Entraînement!$E$3:$E$380,Entraînement!$A$3:$A$380,\"<01/10/\"&YEAR($D$53))-SUM($H$56:H63)","v":0},{"$f":"SUMIFS(Entraînement!$M$3:$M$380,Entraînement!$A$3:$A$380,\"<01/10/\"&YEAR($D$53))-SUM($I$56:I63)","v":0},{"$f":"SUMIFS(Entraînement!$U$3:$U$380,Entraînement!$A$3:$A$380,\"<01/10/\"&YEAR($D$53))-SUM($J$56:J63)","v":0},{"$f":"SUMIFS(Entraînement!$X$3:$X$380,Entraînement!$A$3:$A$380,\"<01/10/\"&YEAR($D$53))-SUM($K$56:K63)","v":0},""]
["OCTOBRE",null,null,null,{"$f":"SUMIFS(Entraînement!$D$3:$D$380,Entraînement!$A$3:$A$380,\"<01/11/\"&YEAR(D53))-SUM($E$56:E64)","v":0},{"$f":"SUMIFS(Entraînement!$L$3:$L$380,Entraînement!$A$3:$A$380,\"<01/11/\"&YEAR($D$53))-SUM($F$56:F64)","v":0},{"$f":"SUMIFS(Entraînement!$T$3:$T$380,Entraînement!$A$3:$A$380,\"<01/11/\"&YEAR($D$53))-SUM($G$56:G64)","v":0},{"$f":"SUMIFS(Entraînement!$E$3:$E$380,Entraînement!$A$3:$A$380,\"<01/11/\"&YEAR($D$53))-SUM($H$56:H64)","v":0},{"$f":"SUMIFS(Entraînement!$M$3:$M$380,Entraînement!$A$3:$A$380,\"<01/11/\"&YEAR($D$53))-SUM($I$56:I64)","v":0},{"$f":"SUMIFS(Entraînement!$U$3:$U$380,Entraînement!$A$3:$A$380,\"<01/11/\"&YEAR($D$53))-SUM($J$56:J64)","v":0},{"$f":"SUMIFS(Entraînement!$X$3:$X$380,Entraînement!$A$3:$A$380,\"<01/11/\"&YEAR($D$53))-SUM($K$56:K64)","v":0},""]
["NOVEMBRE",null,null,null,{"$f":"SUMIFS(Entraînement!$D$3:$D$380,Entraînement!$A$3:$A$380,\"<01/12/\"&YEAR(D53))-SUM($E$56:E65)","v":0},{"$f":"SUMIFS(Entraînement!$L$3:$L$380,Entraînement!$A$3:$A$380,\"<01/12/\"&YEAR($D$53))-SUM($F$56:F65)","v":0},{"$f":"SUMIFS(Entraînement!$T$3:$T$380,Entraînement!$A$3:$A$380,\"<01/12/\"&YEAR($D$53))-SUM($G$56:G65)","v":0},{"$f":"SUMIFS(Entraînement!$E$3:$E$380,Entraînement!$A$3:$A$380,\"<01/12/\"&YEAR($D$53))-SUM($H$56:H65)","v":0},{"$f":"SUMIFS(Entraînement!$M$3:$M$380,Entraînement!$A$3:$A$380,\"<01/12/\"&YEAR($D$53))-SUM($I$56:I65)","v":0},{"$f":"SUMIFS(Entraînement!$U$3:$U$380,Entraînement!$A$3:$A$380,\"<01/12/\"&YEAR($D$53))-SUM($J$56:J65)","v":0},{"$f":"SUMIFS(Entraînement!$X$3:$X$380,Entraînement!$A$3:$A$380,\"<01/12/\"&YEAR($D$53))-SUM($K$56:K65)","v":0},""]
["DÉCEMBRE",null,null,null,{"$f":"SUMIFS(Entraînement!$D$3:$D$380,Entraînement!$A$3:$A$380,\"<01/01/\"&YEAR(D53)+1)-SUM($E$56:E66)","v":0},{"$f":"SUMIFS(Entraînement!$L$3:$L$380,Entraînement!$A$3:$A$380,\"<01/01/\"&YEAR($D$53)+1)-SUM($F$56:F66)","v":0},{"$f":"SUMIFS(Entraînement!$T$3:$T$380,Entraînement!$A$3:$A$380,\"<01/01/\"&YEAR($D$53)+1)-SUM($G$56:G66)","v":0},{"$f":"SUMIFS(Entraînement!$E$3:$E$380,Entraînement!$A$3:$A$380,\"<01/01/\"&YEAR($D$53)+1)-SUM($H$56:H66)","v":0},{"$f":"SUMIFS(Entraînement!$M$3:$M$380,Entraînement!$A$3:$A$380,\"<01/01/\"&YEAR($D$53)+1)-SUM($I$56:I66)","v":0},{"$f":"SUMIFS(Entraînement!$U$3:$U$380,Entraînement!$A$3:$A$380,\"<01/01/\"&YEAR($D$53)+1)-SUM($J$56:J66)","v":0},{"$f":"SUMIFS(Entraînement!$X$3:$X$380,Entraînement!$A$3:$A$380,\"<01/01/\"&YEAR($D$53)+1)-SUM($K$56:K66)","v":0},""]
["ANNUEL"]
["TOTAL",null,null,null,{"$f":"IF(SUM(E56:E67)=0,\"\",SUM(E56:E67))","v":""},"","","","","","",{"$f":"IF(SUM(H69:K69)=0,\"\",SUM(H69:K69))","v":""}]

{"sheet":"poids","index":2,"n_rows":0,"n_cols":0,"rows_kept":0,"cut":false,"hidden":false,"merged":[]}

{"sheet":"Graph ( bilan )","index":3,"n_rows":0,"n_cols":0,"rows_kept":0,"cut":false,"hidden":false,"merged":[]}

{"sheet":"nb heures semaine","index":4,"n_rows":0,"n_cols":0,"rows_kept":0,"cut":false,"hidden":false,"merged":[]}

{"sheet":"nb heures mois","index":5,"n_rows":0,"n_cols":0,"rows_kept":0,"cut":false,"hidden":false,"merged":[]}

{"sheet":"Km nat hebdo","index":6,"n_rows":0,"n_cols":0,"rows_kept":0,"cut":false,"hidden":false,"merged":[]}

{"sheet":"Km nat mensuel","index":7,"n_rows":0,"n_cols":0,"rows_kept":0,"cut":false,"hidden":false,"merged":[]}

{"sheet":"moy nat","index":8,"n_rows":0,"n_cols":0,"rows_kept":0,"cut":false,"hidden":false,"merged":[]}

{"sheet":"Km vélo hebdo","index":9,"n_rows":0,"n_cols":0,"rows_kept":0,"cut":false,"hidden":false,"merged":[]}

{"sheet":"Km vélo mensuel","index":10,"n_rows":0,"n_cols":0,"rows_kept":0,"cut":false,"hidden":false,"merged":[]}

{"sheet":"moy vélo","index":11,"n_rows":0,"n_cols":0,"rows_kept":0,"cut":false,"hidden":false,"merged":[]}

{"sheet":"Km cap hebdo","index":12,"n_rows":0,"n_cols":0,"rows_kept":0,"cut":false,"hidden":false,"merged":[]}

{"sheet":"Km cap mensuel","index":13,"n_rows":0,"n_cols":0,"rows_kept":0,"cut":false,"hidden":false,"merged":[]}

{"sheet":"Moy cap","index":14,"n_rows":0,"n_cols":0,"rows_kept":0,"cut":false,"hidden":false,"merged":[]}